BEGIN:VCALENDAR
VERSION:2.0
PRODID:-//Octubre Centre de Cultura Contemporània - ECPv5.1.6//NONSGML v1.0//EN
CALSCALE:GREGORIAN
METHOD:PUBLISH
X-WR-CALNAME:Octubre Centre de Cultura Contemporània
X-ORIGINAL-URL:https://octubre.cat
X-WR-CALDESC:Events for Octubre Centre de Cultura Contemporània
BEGIN:VTIMEZONE
TZID:Europe/Andorra
BEGIN:DAYLIGHT
TZOFFSETFROM:+0100
TZOFFSETTO:+0200
TZNAME:CEST
DTSTART:20120325T010000
END:DAYLIGHT
BEGIN:STANDARD
TZOFFSETFROM:+0200
TZOFFSETTO:+0100
TZNAME:CET
DTSTART:20121028T010000
END:STANDARD
END:VTIMEZONE
BEGIN:VEVENT
DTSTART;TZID=Europe/Andorra:20120216T190000
DTEND;TZID=Europe/Andorra:20120216T190000
DTSTAMP:20260424T031830
CREATED:20200729T165711Z
LAST-MODIFIED:20200730T042939Z
UID:9334-1329418800-1329418800@octubre.cat
SUMMARY:Qüestió de confiança. Històries bancàries que acaben bé
DESCRIPTION:Dijous 16 de febrer\, a les 19.00h: projecció del documental “Qüestió de confiança. Històries bancàries que acaben bé”\, amb Jordi Pla (director)\, Jordi Sebastià (guionista) i Roberto Blasco (secretari de Fontilles)  \n  \n  \n\nPresentació del documental Qüestió de confiança. Històries bancàries que acaben bé\, amb la participació de Jordi Pla (director)\, Jordi Sebastià (guionista) i Roberto Blasco (secretari de Fontilles).  Produït per Fontilles dins del projecte de sensibilització “Brasil\, testimoni per al compromís amb la pobresa\, la salut i el desenvolupament”\, amb la col·laboració de l’associació Ansa.  El curt fou rodat el 2011 a Sao Felix de Araguaia (al Mato Grosso\, Brasil) i recull el testimoni d’homes i dones que han patit la lepra però que han aconseguit superar l’estigma social que suposa aquesta malaltia\, han recuperat la confiança i han millorat les seues condicions de vida gràcies a l’obtenció de microcrèdits.  Sinopsi: Glicèrio regenta un taller de bicicletes\, Mari Graci ven llenceria per les cases aïllades\, Bomfim recorre centenars de kilòmetres a rem per a pescar… Aquestes persones i moltes més són els protagonistes del curtmetratge “Qüestió de confiança” i totes tenen en comú que viuen a la remota regió del Baix Araguaia\, al Mato Grosso brasiler\, i que han patit la lepra. Ara\, amb l’ajut dels microcrèdits que obtingueren del projecte de Fontilles i la fundació local Ansa\, poder tornar a portar endavant les seues activitats i planten cara a l’estigma de la malaltia que pogueren véncer.  Fontilles i Ansa L’entitat Fontilles porta més de cent anys lluitant contra la lepra. En l’actualitat està present a catorze països d’Àfrica\, Àsia i Amèrica Llatina\, on desenvolupa vint-i-set projectes de cooperació internacional\, dels quals es beneficiaren més de dos milions de persones durant 2010. A Brasil\, el segon país amb major nombre de casos de lepra nous a l’any\, Fontilles treballa des de 1996 amb l’associació Ansa (fundada pel bisbe Pere Casaldàliga) i realitza un projecte sanitari d’atenció integral a persones afectades per la lepra\, reforçat des de l’any 2000 per un programa de microcrèdits dirigit a la rehabilitació socioeconòmica de les persones afectades.
URL:https://octubre.cat/activitat/questio-de-confianca-histories-bancaries-que-acaben-be/
LOCATION:No definit
CATEGORIES:Cinema
ATTACH;FMTTYPE=image/jpeg:https://octubre.cat/www/wp-content/uploads/2020/07/activitat1577.jpg
END:VEVENT
END:VCALENDAR