BEGIN:VCALENDAR
VERSION:2.0
PRODID:-//Octubre Centre de Cultura Contemporània - ECPv5.1.6//NONSGML v1.0//EN
CALSCALE:GREGORIAN
METHOD:PUBLISH
X-WR-CALNAME:Octubre Centre de Cultura Contemporània
X-ORIGINAL-URL:https://octubre.cat
X-WR-CALDESC:Events for Octubre Centre de Cultura Contemporània
BEGIN:VTIMEZONE
TZID:Europe/Andorra
BEGIN:DAYLIGHT
TZOFFSETFROM:+0100
TZOFFSETTO:+0200
TZNAME:CEST
DTSTART:20160327T010000
END:DAYLIGHT
BEGIN:STANDARD
TZOFFSETFROM:+0200
TZOFFSETTO:+0100
TZNAME:CET
DTSTART:20161030T010000
END:STANDARD
END:VTIMEZONE
BEGIN:VEVENT
DTSTART;TZID=Europe/Andorra:20160504T190000
DTEND;TZID=Europe/Andorra:20160504T190000
DTSTAMP:20260421T151951
CREATED:20200729T171830Z
LAST-MODIFIED:20200729T185509Z
UID:10655-1462388400-1462388400@octubre.cat
SUMMARY:'Queridísimos intelectuales (del placer y del dolor)'\, de Carlos Cañeque
DESCRIPTION:Dimecres 4 de maig a les 19.00h. Projecció inclosa en el Cicle de Cinema Social. Entrada lliure.  \n  \n  \n\n Deu intel·lectuals espanyols (Santiago Carrillo\, Fernando Savater\, Elena Ochoa\, Román Gubern\, Carlos Moya\, Luís González Seara\, Javier Tomeo\, Xavier Rubert de Ventós\, Antonio Soler i Nuria Amat) filosofen sobre la vida\, l’erotisme\, la ironia\, el sofriment\, el sucidi i la mort.  Direcció i guió: Carlos Cañeque (2012) Fotografia: Manel Capdevila Producció: Anareia Films Durada: 90’  — Entrada lliure Organitzat amb la col·laboració d’El Cine Social Coordinació del cicle: Antonio Lloréns
URL:https://octubre.cat/activitat/queridisimos-intelectuales-del-placer-y-del-dolor-de-carlos-caneque/
LOCATION:Sala d’actes
CATEGORIES:Tercer cicle de cinema social
ATTACH;FMTTYPE=image/jpeg:https://octubre.cat/www/wp-content/uploads/2020/07/activitat2578.jpg
END:VEVENT
END:VCALENDAR