BEGIN:VCALENDAR
VERSION:2.0
PRODID:-//Octubre Centre de Cultura Contemporània - ECPv5.1.6//NONSGML v1.0//EN
CALSCALE:GREGORIAN
METHOD:PUBLISH
X-WR-CALNAME:Octubre Centre de Cultura Contemporània
X-ORIGINAL-URL:https://octubre.cat
X-WR-CALDESC:Events for Octubre Centre de Cultura Contemporània
BEGIN:VTIMEZONE
TZID:Europe/Andorra
BEGIN:DAYLIGHT
TZOFFSETFROM:+0100
TZOFFSETTO:+0200
TZNAME:CEST
DTSTART:20140330T010000
END:DAYLIGHT
BEGIN:STANDARD
TZOFFSETFROM:+0200
TZOFFSETTO:+0100
TZNAME:CET
DTSTART:20141026T010000
END:STANDARD
END:VTIMEZONE
BEGIN:VEVENT
DTSTART;TZID=Europe/Andorra:20141204T190000
DTEND;TZID=Europe/Andorra:20141204T190000
DTSTAMP:20260421T100945
CREATED:20200729T170825Z
LAST-MODIFIED:20200730T041314Z
UID:10012-1417719600-1417719600@octubre.cat
SUMMARY:Què va passar amb les postals?
DESCRIPTION:Dijous 4 de desembre a les 19.00h. Conferències al voltant de la imatge impresa amb Rafael Solaz\, Fernando Brusola\, Enrique Algarra i Julio Álvarez  \n  \n  \n\n Conferències al voltant de la imatge impresa.  Es comptarà amb la participació de grans professionals del sector\, com Rafael Solaz\, bibliòfil i historiador gràfic que ens contextualitzarà les targetes postals en el marc històric valencià\, amb la seua ponència ¨Una història de la targeta postal¨. Seguidament\, Fernando Brusola\, director del Màster d´Arts Gràfiques de la UPV\, que s´ocuparà de la part més tècnica amb la seua conferència anomenada ¨Sistemes d’impressió¨. Enrique Algarra\, professor a l´Escola d´Art i Superior de Disseny de València\, a més de fotògraf de llarga trajectòria i amb experiència en el món de la fotografia postal\, reflexionarà sobre l´us de la imatge en aquest context sota el títol de ¨La mirada d’un fotògraf¨. Per a finalitzar\, Julio Àlvarez\, representant de MonPostal\, una jove empresa que s´inicia en l’àmbit de la postal comercial\, ens oferirà una mirada més personal i innovadora d´aquest sector.
URL:https://octubre.cat/activitat/que-va-passar-amb-les-postals/
CATEGORIES:Conferències i congressos
ATTACH;FMTTYPE=image/jpeg:https://octubre.cat/www/wp-content/uploads/2020/07/activitat2209.jpg
END:VEVENT
END:VCALENDAR