BEGIN:VCALENDAR
VERSION:2.0
PRODID:-//Octubre Centre de Cultura Contemporània - ECPv5.1.6//NONSGML v1.0//EN
CALSCALE:GREGORIAN
METHOD:PUBLISH
X-WR-CALNAME:Octubre Centre de Cultura Contemporània
X-ORIGINAL-URL:https://octubre.cat
X-WR-CALDESC:Events for Octubre Centre de Cultura Contemporània
BEGIN:VTIMEZONE
TZID:Europe/Andorra
BEGIN:DAYLIGHT
TZOFFSETFROM:+0100
TZOFFSETTO:+0200
TZNAME:CEST
DTSTART:20140330T010000
END:DAYLIGHT
BEGIN:STANDARD
TZOFFSETFROM:+0200
TZOFFSETTO:+0100
TZNAME:CET
DTSTART:20141026T010000
END:STANDARD
END:VTIMEZONE
BEGIN:VEVENT
DTSTART;TZID=Europe/Andorra:20141204T193000
DTEND;TZID=Europe/Andorra:20141204T193000
DTSTAMP:20260421T100945
CREATED:20200729T170817Z
LAST-MODIFIED:20200730T041309Z
UID:10005-1417721400-1417721400@octubre.cat
SUMMARY:Quartet de corda A Piacere
DESCRIPTION:Dijous 4 de desembre a les 19.30h. “Haydn\, els orígens”\, amb obres de J. Haydn i F. Mendelssohn. Entrada: 5 euros  \n  \n  \n\n El quartet de corda A Piacere presenta “Haydn\, els orígens”  Programa:  –J. Haydn (1732-1809): Quartet de corda op. 33 núm. 2 “La broma” –Fanny Mendelssohn (1805-1847): Quartet de corda en Mi bemol Major  A Piacere són Anna Requena i Miguel Ángel López (violins)\, Miguel Falomir (viola) i Yolanda Bueso (violoncel)  Entrada: 5 euros
URL:https://octubre.cat/activitat/quartet-de-corda-a-piacere/
CATEGORIES:Música
ATTACH;FMTTYPE=image/jpeg:https://octubre.cat/www/wp-content/uploads/2020/07/activitat2202.jpg
END:VEVENT
END:VCALENDAR