BEGIN:VCALENDAR
VERSION:2.0
PRODID:-//Octubre Centre de Cultura Contemporània - ECPv5.1.6//NONSGML v1.0//EN
CALSCALE:GREGORIAN
METHOD:PUBLISH
X-WR-CALNAME:Octubre Centre de Cultura Contemporània
X-ORIGINAL-URL:https://octubre.cat
X-WR-CALDESC:Events for Octubre Centre de Cultura Contemporània
BEGIN:VTIMEZONE
TZID:Europe/Andorra
BEGIN:DAYLIGHT
TZOFFSETFROM:+0100
TZOFFSETTO:+0200
TZNAME:CEST
DTSTART:20150329T010000
END:DAYLIGHT
BEGIN:STANDARD
TZOFFSETFROM:+0200
TZOFFSETTO:+0100
TZNAME:CET
DTSTART:20151025T010000
END:STANDARD
END:VTIMEZONE
BEGIN:VEVENT
DTSTART;TZID=Europe/Andorra:20150219T190000
DTEND;TZID=Europe/Andorra:20150219T190000
DTSTAMP:20260421T182049
CREATED:20200729T170856Z
LAST-MODIFIED:20200730T041341Z
UID:10045-1424372400-1424372400@octubre.cat
SUMMARY:Quartet de corda 'A Piacere'
DESCRIPTION:Dijous 19 de febrer a les 19.00h. Obres de Haydn i Dvorak. Entrada: 5 euros  \n  \n  \n\n Haydn\, els orígens  Programa: –J. Hydn (1732-1809): Quartet de Do major op. 76 núm. 3\, Emperador –A. Dvorak (1841-1904): Quartet núm. 12 en Fa major op. 96\, Americà  A Piacere són –Anna Requena i Miguel Ángel López\, violins –Miguel Falomir\, viola –Yolanda Bueso\, violoncel  Entrada: 5 euros
URL:https://octubre.cat/activitat/quartet-de-corda-a-piacere-2/
LOCATION:Sala d’actes
CATEGORIES:Música
ATTACH;FMTTYPE=image/jpeg:https://octubre.cat/www/wp-content/uploads/2020/07/activitat2245.jpg
END:VEVENT
END:VCALENDAR