BEGIN:VCALENDAR
VERSION:2.0
PRODID:-//Octubre Centre de Cultura Contemporània - ECPv5.1.6//NONSGML v1.0//EN
CALSCALE:GREGORIAN
METHOD:PUBLISH
X-WR-CALNAME:Octubre Centre de Cultura Contemporània
X-ORIGINAL-URL:https://octubre.cat
X-WR-CALDESC:Events for Octubre Centre de Cultura Contemporània
BEGIN:VTIMEZONE
TZID:Europe/Andorra
BEGIN:DAYLIGHT
TZOFFSETFROM:+0100
TZOFFSETTO:+0200
TZNAME:CEST
DTSTART:20150329T010000
END:DAYLIGHT
BEGIN:STANDARD
TZOFFSETFROM:+0200
TZOFFSETTO:+0100
TZNAME:CET
DTSTART:20151025T010000
END:STANDARD
END:VTIMEZONE
BEGIN:VEVENT
DTSTART;TZID=Europe/Andorra:20150417T193000
DTEND;TZID=Europe/Andorra:20150417T193000
DTSTAMP:20260421T151639
CREATED:20200729T171020Z
LAST-MODIFIED:20200730T041424Z
UID:10135-1429299000-1429299000@octubre.cat
SUMMARY:Quartet de cambra 'A piacere'
DESCRIPTION:Divendres 17 d’abril a les 19.30h. Cicle de música “Haydn\, els orígens”\, amb obres de Haydn i Britten. Entrada: 5 euros  \n  \n  \n\n El quartet de corda A Piacere es va constituir el 1997 amb el nom de quartet Universitas a partir d’un projecte impulsat per la Universitat de València\, i adopten el nom definitiu A Piacere el 2007\, arrel dels cicles de música de cambra que realitzaren a l’Octubre CCC des d’aquell anys i fins el 2011. Han fet concerts arreu d’Europa i han participat en festivals com ara els de Benicàssim – Cordes a la Mar i el de Peníscola\, i també han estat convidats a participar diverses vegades en el Zeist Music Days International Chamber Music Festival d’Holanda i en el Grachtenfestival d’Amsterdam.  A principis de 2014 retornen a l’Octubre CCC per oferir-nos regularment aquest cicle sobre “Haydn\, els orígens”  Programa:  a) J.Haydn (1732-1809) Quartet op.74 n°3 “The horseman” (El genet) –I.Allegro –II.Largo assai –III.Menuet.Trio –IV.Finale. Allegro con brio  b) B.Britten (1913-1976) Simfonia Simple per a quartet de corda op.4 –I.Boisterous Bourré –II.Playful Pizzicato –III.Sentimental Saraband –IV.Frolicsome Finale  A Piacere són –Anna Requena i Miguel Ángel López\, violins –Miguel Falomir\, viola –Yolanda Bueso\, violoncel  Entrada: 5 euros
URL:https://octubre.cat/activitat/quartet-de-cambra-a-piacere/
CATEGORIES:Música
ATTACH;FMTTYPE=image/jpeg:https://octubre.cat/www/wp-content/uploads/2020/07/activitat2306.jpg
END:VEVENT
END:VCALENDAR