BEGIN:VCALENDAR
VERSION:2.0
PRODID:-//Octubre Centre de Cultura Contemporània - ECPv5.1.6//NONSGML v1.0//EN
CALSCALE:GREGORIAN
METHOD:PUBLISH
X-WR-CALNAME:Octubre Centre de Cultura Contemporània
X-ORIGINAL-URL:https://octubre.cat
X-WR-CALDESC:Events for Octubre Centre de Cultura Contemporània
BEGIN:VTIMEZONE
TZID:Europe/Andorra
BEGIN:DAYLIGHT
TZOFFSETFROM:+0100
TZOFFSETTO:+0200
TZNAME:CEST
DTSTART:20090329T010000
END:DAYLIGHT
BEGIN:STANDARD
TZOFFSETFROM:+0200
TZOFFSETTO:+0100
TZNAME:CET
DTSTART:20091025T010000
END:STANDARD
END:VTIMEZONE
BEGIN:VEVENT
DTSTART;TZID=Europe/Andorra:20090311T180000
DTEND;TZID=Europe/Andorra:20090311T180000
DTSTAMP:20260420T215629
CREATED:20200729T182332Z
LAST-MODIFIED:20200729T182332Z
UID:12770-1236794400-1236794400@octubre.cat
SUMMARY:Qualitats bàsiques i ús del so i la vibració en l'espai
DESCRIPTION:10 i 11 de març: Taller “Qualitats bàsiques i ús del so i la vibració en l’espai” a càrrec d’Ilios (Premi Melina Mercouri 1997 – Grècia)  \n  \n  \n\nTaller impartit per ILIOS Tindrà lloc en dos dies consecutius entre les 18.00h i les 20.00h.  Part teòrica – Introducció a les propietats del so.  – Espectre sonor\, freqüències sonores. Freqüència d’objectes i de l’organisme humà. – Ús del so en pràctiques no musicals (medicina\, indústria de l’armament\, control de gent\, etc.). – So i activitat humana.  – El so en l’espai arquitectònic.  – Com el so afecta l’espai i viceversa. Una manera de sentir el so no sols a través de l’oïda.   Part pràctica En l’espai destriat\, els participants realitzaran medicions al voltant de la ressonància de dit espai i usaran tàctiques de vibració amb baixa freqüència.  Medició de presència de freqüències en diversos punts de l’espai.  Experiment sonor per sentir com sona l’espai i veure la importància dels materials arquitectònics i la pressió de l’aire.   Prèvia inscripció gratuïta.  Aquest taller acompanya l’actuació d’ILIOS\, compresa dins del cicle ((vibra)).
URL:https://octubre.cat/activitat/qualitats-basiques-i-us-del-so-i-la-vibracio-en-lespai/
LOCATION:No definit
CATEGORIES:Els tallers de l'Octubre
ATTACH;FMTTYPE=image/jpeg:https://octubre.cat/www/wp-content/uploads/2020/07/activitat795.jpg
END:VEVENT
END:VCALENDAR