BEGIN:VCALENDAR
VERSION:2.0
PRODID:-//Octubre Centre de Cultura Contemporània - ECPv5.1.6//NONSGML v1.0//EN
CALSCALE:GREGORIAN
METHOD:PUBLISH
X-WR-CALNAME:Octubre Centre de Cultura Contemporània
X-ORIGINAL-URL:https://octubre.cat
X-WR-CALDESC:Events for Octubre Centre de Cultura Contemporània
BEGIN:VTIMEZONE
TZID:Europe/Andorra
BEGIN:DAYLIGHT
TZOFFSETFROM:+0100
TZOFFSETTO:+0200
TZNAME:CEST
DTSTART:20130331T010000
END:DAYLIGHT
BEGIN:STANDARD
TZOFFSETFROM:+0200
TZOFFSETTO:+0100
TZNAME:CET
DTSTART:20131027T010000
END:STANDARD
END:VTIMEZONE
BEGIN:VEVENT
DTSTART;TZID=Europe/Andorra:20130521T190000
DTEND;TZID=Europe/Andorra:20130521T190000
DTSTAMP:20260422T064946
CREATED:20200729T170035Z
LAST-MODIFIED:20200729T184118Z
UID:9536-1369162800-1369162800@octubre.cat
SUMMARY:'Professor Lazhar'\, de Philippe Falardeau
DESCRIPTION:21\, 22 i 23 de maig a les 19.00h. Projecció del film ‘Professor Lazhar’\, de Philippe Falardeau. Amb la col·laboració del Servei de Política Lingüística de la Universitat de València  \n  \n  \n\n Professor Lazhar (Monsieur Lazhar en francès) és una pel·lícula canadenca de 2011\, escrita i dirigida per Philippe Falardeau i basada en l’obra Bashir Lazhar d’Évelyne de la Chenelière. Va estar nominada als premis Óscar de 2011.  A Montreal se suïcida una mestra d’escola primària. Bachir Lazhar\, un immigrant algerià és contractat com a professor substitut malgrat que encara està recuperant-se de la pèrdua de la seua pròpia dona i els seus fills\, assassinats com a represàlia pel seus escrits. El professor arriba a conèixer els seus alumnes malgrat la diferència cultural i de les seues pròpies dificultats per adaptar-se a les limitacions del sistema escolar. Els xiquets comencen a recuperar-se del suïcidi de l’antiga mestra\, però a l’escola ningú no és conscient del passat dolorós de Bachir.   Organitzat per Acció Cultural del País Valencià amb la col·laboració del Servei de Política Lingüística de la Universitat de València (SPLUV)  Preu entrada –3 € –2 € socis d’ACPV –L’entrada serà gratuïta amb el carnet de la Universitat de València (més un acompanyant) i de la Universitat Politècnica de València (més un acompanyant).  Podeu passar a recollir les entrades a partir d’una hora abans de la projecció.
URL:https://octubre.cat/activitat/professor-lazhar-de-philippe-falardeau/
LOCATION:Sala d’actes
CATEGORIES:Cinema
ATTACH;FMTTYPE=image/jpeg:https://octubre.cat/www/wp-content/uploads/2020/07/activitat1792.jpg
END:VEVENT
END:VCALENDAR