BEGIN:VCALENDAR
VERSION:2.0
PRODID:-//Octubre Centre de Cultura Contemporània - ECPv5.1.6//NONSGML v1.0//EN
CALSCALE:GREGORIAN
METHOD:PUBLISH
X-WR-CALNAME:Octubre Centre de Cultura Contemporània
X-ORIGINAL-URL:https://octubre.cat
X-WR-CALDESC:Events for Octubre Centre de Cultura Contemporània
BEGIN:VTIMEZONE
TZID:Europe/Andorra
BEGIN:DAYLIGHT
TZOFFSETFROM:+0100
TZOFFSETTO:+0200
TZNAME:CEST
DTSTART:20110327T010000
END:DAYLIGHT
BEGIN:STANDARD
TZOFFSETFROM:+0200
TZOFFSETTO:+0100
TZNAME:CET
DTSTART:20111030T010000
END:STANDARD
END:VTIMEZONE
BEGIN:VEVENT
DTSTART;TZID=Europe/Andorra:20111215T183000
DTEND;TZID=Europe/Andorra:20111215T183000
DTSTAMP:20260424T031717
CREATED:20200729T165643Z
LAST-MODIFIED:20200730T042916Z
UID:9305-1323973800-1323973800@octubre.cat
SUMMARY:Primera Trobada Audiovisual de Joves
DESCRIPTION:Dijous 15 de desembre a les 18.30h. Projecció dels documentals “Peó”\, “Pròxim destí: monolingües” i “València necessita una cançó”. Després\, taula rodona.  \n  \n  \n\n18:30h  Projecció de documentals  –Títol: “Peó”. Director: Joan Andreu Quiles i Rodas. Any de producció: 2011. Lloc de producció: Sèrbia. Duració: 2 minuts i 50 segons. Sinopsi: Un dia qualsevol a un parc de Belgrad un vell troba una peça d’escacs que li farà recordar i reflexionar sobre el passat\, el present i el futur… Un curt poètic i reflexiu sobre la condició humana i els conflictes bèl·lics.  –Títol: “Pròxim destí: Monolingües” Directors: Marta Galindo\, Arnau Ruiz Duració: 8minuts i 50 segons. Sinopsi: Joan es desperta un dia qualsevol i sorprés observa com la seua llengua quotidiana ha estat substituïda per una altra. Tothom\, fins i tot els mitjans de comunicació\, com la ràdio i la televisió\, li parlen en un idioma que no entén. És real?  –Títol: “València necessita una cançó” Directors: Borja Pons i Guillem Nicolàs. Duració: 47 minuts.  Sinopsi:”València necessita una cançó” és un documental que s’endinsa en el gran moment que atravessa la música en valencià. Més de 30 músics\, periodistes i professionals del gremi analitzen el que coincideixen a denominar com el millor moment del sector de tots els temps. Quantitat\, qualitat i diversitat en són les claus. L’objectiu: la normalitat dins d’un país lluny encara de ser-ho.   19:30h  Taula rodona: La influència dels consumidors joves catalanoparlants en el sector audiovisual  Participants: Ferran Suay (psicòleg i membre de la junta directiva d’ACPV)\, Borja Pons ( Director del documental “València necessita una cançó” i músic del grup Desgavell) i Anna Peña (periodista). Modera:  Clàudia Canós (membre de l’executiva de Joves d’Acció).  Organitzat per Joves d’Acció
URL:https://octubre.cat/activitat/primera-trobada-audiovisual-de-joves/
LOCATION:No definit
CATEGORIES:Cinema
ATTACH;FMTTYPE=image/jpeg:https://octubre.cat/www/wp-content/uploads/2020/07/activitat1540.jpg
END:VEVENT
END:VCALENDAR