BEGIN:VCALENDAR
VERSION:2.0
PRODID:-//Octubre Centre de Cultura Contemporània - ECPv5.1.6//NONSGML v1.0//EN
CALSCALE:GREGORIAN
METHOD:PUBLISH
X-WR-CALNAME:Octubre Centre de Cultura Contemporània
X-ORIGINAL-URL:https://octubre.cat
X-WR-CALDESC:Events for Octubre Centre de Cultura Contemporània
BEGIN:VTIMEZONE
TZID:Europe/Andorra
BEGIN:DAYLIGHT
TZOFFSETFROM:+0100
TZOFFSETTO:+0200
TZNAME:CEST
DTSTART:20250330T010000
END:DAYLIGHT
BEGIN:STANDARD
TZOFFSETFROM:+0200
TZOFFSETTO:+0100
TZNAME:CET
DTSTART:20251026T010000
END:STANDARD
END:VTIMEZONE
BEGIN:VEVENT
DTSTART;TZID=Europe/Andorra:20251128T190000
DTEND;TZID=Europe/Andorra:20251128T190000
DTSTAMP:20260420T181206
CREATED:20251125T161304Z
LAST-MODIFIED:20251125T170803Z
UID:24063-1764356400-1764356400@octubre.cat
SUMMARY:Presentem el mural sobre la dana del Pont de la Solidaritat
DESCRIPTION:Obra de Roberto Márquez i exhibit actualment a l’Octubre CCC.\nAmb la presència dels artistes i voluntaris valencians que hi participaren: \nDavid Cifuentes\, Ricardo\, Nadia\, David Bikedesuro\, Minerva\, Paco\, Bruno\, Luís\, Christian\, Jorge i Beatriz Roclim. \n  \n \nMés informació al nostre blog.
URL:https://octubre.cat/activitat/presentem-el-mural-sobre-la-dana-del-pont-de-la-solidaritat/
LOCATION:Hall
CATEGORIES:Instal·lacions
ATTACH;FMTTYPE=image/jpeg:https://octubre.cat/www/wp-content/uploads/2025/11/mural-DANA-2-2025_FotoPRATSiCAMPS-7R.jpg
END:VEVENT
END:VCALENDAR