BEGIN:VCALENDAR
VERSION:2.0
PRODID:-//Octubre Centre de Cultura Contemporània - ECPv5.1.6//NONSGML v1.0//EN
CALSCALE:GREGORIAN
METHOD:PUBLISH
X-WR-CALNAME:Octubre Centre de Cultura Contemporània
X-ORIGINAL-URL:https://octubre.cat
X-WR-CALDESC:Events for Octubre Centre de Cultura Contemporània
BEGIN:VTIMEZONE
TZID:Europe/Andorra
BEGIN:DAYLIGHT
TZOFFSETFROM:+0100
TZOFFSETTO:+0200
TZNAME:CEST
DTSTART:20250330T010000
END:DAYLIGHT
BEGIN:STANDARD
TZOFFSETFROM:+0200
TZOFFSETTO:+0100
TZNAME:CET
DTSTART:20251026T010000
END:STANDARD
END:VTIMEZONE
BEGIN:VEVENT
DTSTART;TZID=Europe/Andorra:20250527T190000
DTEND;TZID=Europe/Andorra:20250527T190000
DTSTAMP:20260421T104735
CREATED:20250512T143208Z
LAST-MODIFIED:20260130T095137Z
UID:22763-1748372400-1748372400@octubre.cat
SUMMARY:Presentacions de llibres de Francesc Mompó i de Sofia Rodríguez
DESCRIPTION:Amb els autors acompanyats per Jaume Pérez Montaner i Isabel Robles\, més el cantant Carles Pastor i el rapsode David Vidal. \nEls llibres que es presente són: \n—Jo\, dos de tr3s\, de Francesc Mompó (Petit Editor) \n—La jubilación del ser humano\, de Sofia García (Petit Editor) \n  \nAmb la col·laboració de:
URL:https://octubre.cat/activitat/presentacions-de-llibres-de-francesc-mompo-i-de-sofia-rodriguez/
LOCATION:Llibreria Fan Set
CATEGORIES:Literatura
ATTACH;FMTTYPE=image/jpeg:https://octubre.cat/www/wp-content/uploads/2022/04/llibreria-fan-set.jpg
END:VEVENT
END:VCALENDAR