BEGIN:VCALENDAR
VERSION:2.0
PRODID:-//Octubre Centre de Cultura Contemporània - ECPv5.1.6//NONSGML v1.0//EN
CALSCALE:GREGORIAN
METHOD:PUBLISH
X-WR-CALNAME:Octubre Centre de Cultura Contemporània
X-ORIGINAL-URL:https://octubre.cat
X-WR-CALDESC:Events for Octubre Centre de Cultura Contemporània
BEGIN:VTIMEZONE
TZID:Europe/Andorra
BEGIN:DAYLIGHT
TZOFFSETFROM:+0100
TZOFFSETTO:+0200
TZNAME:CEST
DTSTART:20250330T010000
END:DAYLIGHT
BEGIN:STANDARD
TZOFFSETFROM:+0200
TZOFFSETTO:+0100
TZNAME:CET
DTSTART:20251026T010000
END:STANDARD
END:VTIMEZONE
BEGIN:VEVENT
DTSTART;TZID=Europe/Andorra:20250409T193000
DTEND;TZID=Europe/Andorra:20250409T193000
DTSTAMP:20260421T115842
CREATED:20250326T083444Z
LAST-MODIFIED:20250626T073930Z
UID:23069-1744227000-1744227000@octubre.cat
SUMMARY:Presentació privada de Tot comença\, darrer disc d'Esther
DESCRIPTION:Esther fa la seua primera listening party el proper 9 d’abril de 2025. En ella els seus fans més exclusius podran escoltar per primer cop totes les cançons del seu darrer disc Tot començ. \nFesta privada. Accés exclusiu amb invitació. \n—\nOrganitzat pel segell Primavera d’Hivern amb la col·laboració d’Acció Cultural del País Valencià.
URL:https://octubre.cat/activitat/presentacio-privada-de-tot-comenca-darrer-disc-desther/
LOCATION:No definit
CATEGORIES:Música
ATTACH;FMTTYPE=image/jpeg:https://octubre.cat/www/wp-content/uploads/2021/09/esther-web.jpg
END:VEVENT
END:VCALENDAR