BEGIN:VCALENDAR
VERSION:2.0
PRODID:-//Octubre Centre de Cultura Contemporània - ECPv5.1.6//NONSGML v1.0//EN
CALSCALE:GREGORIAN
METHOD:PUBLISH
X-WR-CALNAME:Octubre Centre de Cultura Contemporània
X-ORIGINAL-URL:https://octubre.cat
X-WR-CALDESC:Events for Octubre Centre de Cultura Contemporània
BEGIN:VTIMEZONE
TZID:Europe/Andorra
BEGIN:DAYLIGHT
TZOFFSETFROM:+0100
TZOFFSETTO:+0200
TZNAME:CEST
DTSTART:20100328T010000
END:DAYLIGHT
BEGIN:STANDARD
TZOFFSETFROM:+0200
TZOFFSETTO:+0100
TZNAME:CET
DTSTART:20101031T010000
END:STANDARD
END:VTIMEZONE
BEGIN:VEVENT
DTSTART;TZID=Europe/Andorra:20100325T193000
DTEND;TZID=Europe/Andorra:20100325T193000
DTSTAMP:20260420T222754
CREATED:20200729T164804Z
LAST-MODIFIED:20200729T182837Z
UID:8765-1269545400-1269545400@octubre.cat
SUMMARY:Presentació Media.cat
DESCRIPTION:Dijous 25 de març\, a les 19.30h: “La TDT local als Països Catalans: una oportunitat perduda per millorar la vertebració de l’espai català de comunicació”\, presentació de l’informe elaborat per l’observatori crític dels mitjans de comunicació Media.cat.   \n  \n  \n\nLa TDT local als Països Catalans: una oportunitat perduda per millorar la vertebració de l’espai català de comunicació  Presentació de l’informe sobre la TDT local elaborat per l’observatori crític dels mitjans Media.cat.  Amb la intervenció de: Joan Vila\, president del Grup de Periodistes Ramon Barnils. Laia Altarriba\, autora de l’informe.  Josep Lluís Gómez Mompart\, catedràtic de Periodisme a la Universitat de València.  La irrupció de la TDT local als Països Catalans ha alterat el mapa audiovisual de proximitat amb l’adjudicació de les llicències per operar a les diverses demarcacions. Aquest informe\, doncs\, s’ha fet amb l’objectiu d’estudiar com ha quedat reconfigurat el mapa de la TDT local privada a partir de diversos elements:  1. Els vincles dels propietaris dels canals locals que han aconseguit llicències amb la demarcació on operen. 2. La presència de la llengua als programes de les televisions locals. 3. La producció pròpia i amb continguts de proximitat dins de les graelles de programes dels diversos canals. 4. Canvis més rellevants que hi ha del mapa anterior a la implantació de la TDT i el mapa actual.  Finalment\, l’informe es pregunta com a conclusió si tot plegat contribueix al reforçament de l’espai català de comunicació.  Media.cat és una iniciativa del Grup de Periodistes Ramon Barnils que té el suport de la Fundació Escacc.
URL:https://octubre.cat/activitat/presentacio-media-cat/
LOCATION:No definit
CATEGORIES:Literatura
ATTACH;FMTTYPE=image/jpeg:https://octubre.cat/www/wp-content/uploads/2020/07/activitat1111.jpg
END:VEVENT
END:VCALENDAR