BEGIN:VCALENDAR
VERSION:2.0
PRODID:-//Octubre Centre de Cultura Contemporània - ECPv5.1.6//NONSGML v1.0//EN
CALSCALE:GREGORIAN
METHOD:PUBLISH
X-WR-CALNAME:Octubre Centre de Cultura Contemporània
X-ORIGINAL-URL:https://octubre.cat
X-WR-CALDESC:Events for Octubre Centre de Cultura Contemporània
BEGIN:VTIMEZONE
TZID:Europe/Andorra
BEGIN:DAYLIGHT
TZOFFSETFROM:+0100
TZOFFSETTO:+0200
TZNAME:CEST
DTSTART:20100328T010000
END:DAYLIGHT
BEGIN:STANDARD
TZOFFSETFROM:+0200
TZOFFSETTO:+0100
TZNAME:CET
DTSTART:20101031T010000
END:STANDARD
END:VTIMEZONE
BEGIN:VEVENT
DTSTART;TZID=Europe/Andorra:20101221T193000
DTEND;TZID=Europe/Andorra:20101221T193000
DTSTAMP:20260420T154705
CREATED:20200729T165315Z
LAST-MODIFIED:20200730T042651Z
UID:9095-1292959800-1292959800@octubre.cat
SUMMARY:Presentació 'Martí I l'Humà\, un rei sense hereu'
DESCRIPTION:Dimarts 21 de desembre\, a les 19.30h: Presentació del llibre “Martí I l’Humà\, un rei sense hereu. L’últim monarca català enterrat a Poblet” (Abadia de Poblet 2010)\, de José Antonio Peña Martínez.   \n  \n  \n\nPresentació del llibre Martí I l’Humà\, un rei sense hereu. L’últim monarca català enterrat a Poblet\, de José Antonio Peña Martínez.   Publicat per l’Abadia de Poblet amb motiu del VIè centenari de la mort de Martí I l’Humà.   Presentarà l’acte Anna Peña\, portaveu de les Joventuts d’ERPV.   L’obra és fruit de quatre anys d’investigacions en arxius i biblioteques. Al llibre Martí I l’Humà\, un rei sense hereu. L’últim monarca català enterrat a Poblet\, l’autor traça una documentada biografia de l’esmentat monarca\, amb llums i ombres.  Després de dos matrimonis i la mort dels seus quatre fills (de la seua primera dona\, Maria de Luna)\, Martí I va veure estroncada l’esperança de deixar un hereu al front de la Corona d’Aragó. Després de la seua mort\, i amb un interregne de dos anys\, la seua successió seria resolta en el Compromís de Casp.  L’abadia de Poblet edita aquest llibre aquest 2010\, en coincidència amb el VIè centenari de la mort de Martí I l’humà\, l’últim rei del Casal de Barcelona enterrat al monestir de Poblet.
URL:https://octubre.cat/activitat/presentacio-marti-i-lhuma-un-rei-sense-hereu/
LOCATION:No definit
CATEGORIES:Literatura
ATTACH;FMTTYPE=image/jpeg:https://octubre.cat/www/wp-content/uploads/2020/07/activitat1337.jpg
END:VEVENT
END:VCALENDAR