BEGIN:VCALENDAR
VERSION:2.0
PRODID:-//Octubre Centre de Cultura Contemporània - ECPv5.1.6//NONSGML v1.0//EN
CALSCALE:GREGORIAN
METHOD:PUBLISH
X-WR-CALNAME:Octubre Centre de Cultura Contemporània
X-ORIGINAL-URL:https://octubre.cat
X-WR-CALDESC:Events for Octubre Centre de Cultura Contemporània
BEGIN:VTIMEZONE
TZID:Europe/Andorra
BEGIN:DAYLIGHT
TZOFFSETFROM:+0100
TZOFFSETTO:+0200
TZNAME:CEST
DTSTART:20090329T010000
END:DAYLIGHT
BEGIN:STANDARD
TZOFFSETFROM:+0200
TZOFFSETTO:+0100
TZNAME:CET
DTSTART:20091025T010000
END:STANDARD
END:VTIMEZONE
BEGIN:VEVENT
DTSTART;TZID=Europe/Andorra:20091218T200000
DTEND;TZID=Europe/Andorra:20091218T200000
DTSTAMP:20260420T143757
CREATED:20200729T164642Z
LAST-MODIFIED:20200729T182723Z
UID:8682-1261166400-1261166400@octubre.cat
SUMMARY:Presentació i lectura d'Albert Garcia
DESCRIPTION:Divendres 18 de desembre\, a les 20.00h: Presentació i lectura d’Albert Garcia\, poeta i lletrista. Estarà acompanyat per Montse Anfruns\, poetessa i actriu.   \n  \n  \n\nPresentació i lectura de les obres d’Albert Garcia i Hernàndez.   Magatzem de perfils (XXVI Premi Manuel Rodríguez Martínez de poesia\, Alcoi\, 2008).  La importància del violoncel (Premi de Poesia Ciutat de Sagunt 2007)\, amb la banda sonora de la primera part.  Amb la participació de Montse Anfruns\, poetessa\, actriu\, professora d’art dramàtic.  Albert Garcia i Hernàndez (Ciutat de València\, 1949)és autor de cançons des de l’any 1962 (Marina Rossell\, Lluís Miquel i els 4Z\, Mamen\, Trullars\, Quarantamaula…) i lletrista i adaptador habitual de Maria del Mar Bonet des del 1987.  Els seus poemes apareixen recollits en les antologies Ai\, València (Edicions 96\, 2003\, ed. de M. J. Escrivà i P. Sif)\, Jocs Florals a Cavanilles (Universitat de València\, 2005) i 62 poemes per l’Ovidi (València\, Brosquil\, 2008). Ha estat traduït a l’eslovè\, al francès\, al gallec i al castellà.  Des de l’any 1997\, escriu quinzenalment al Quadern de Cultura de l’edició valenciana del diari El País. Des de 1998\, és membre del consell de redacció de la revista electrònica internacional de cultura i psicoanàlisi Acheronta (www.acheronta.org). Des de 2005 viu a Barcelona on és lector de francés\, italià i portugués per a diverses editorials.
URL:https://octubre.cat/activitat/presentacio-i-lectura-dalbert-garcia/
LOCATION:No definit
CATEGORIES:Literatura
ATTACH;FMTTYPE=image/jpeg:https://octubre.cat/www/wp-content/uploads/2020/07/activitat1026.jpg
END:VEVENT
END:VCALENDAR