BEGIN:VCALENDAR
VERSION:2.0
PRODID:-//Octubre Centre de Cultura Contemporània - ECPv5.1.6//NONSGML v1.0//EN
CALSCALE:GREGORIAN
METHOD:PUBLISH
X-WR-CALNAME:Octubre Centre de Cultura Contemporània
X-ORIGINAL-URL:https://octubre.cat
X-WR-CALDESC:Events for Octubre Centre de Cultura Contemporània
BEGIN:VTIMEZONE
TZID:Europe/Andorra
BEGIN:DAYLIGHT
TZOFFSETFROM:+0100
TZOFFSETTO:+0200
TZNAME:CEST
DTSTART:20110327T010000
END:DAYLIGHT
BEGIN:STANDARD
TZOFFSETFROM:+0200
TZOFFSETTO:+0100
TZNAME:CET
DTSTART:20111030T010000
END:STANDARD
END:VTIMEZONE
BEGIN:VEVENT
DTSTART;TZID=Europe/Andorra:20110119T193000
DTEND;TZID=Europe/Andorra:20110119T193000
DTSTAMP:20260421T004258
CREATED:20200729T165302Z
LAST-MODIFIED:20200730T042646Z
UID:9083-1295465400-1295465400@octubre.cat
SUMMARY:Presentació 'Federalisme\, personalisme\, ecumenisme'
DESCRIPTION:Dimecres 19 de gener\, a les 19.30h: Presentació del llibre “Federalisme\, personalisme\, ecumenisme” (col·lecció Rent\, editorial Denes 2010) de Denis de Rougemont.   \n  \n  \n\nPresentació del llibre Federalisme\, personalisme\, ecumenisme (col·lecció Rent\, editorial Denes 2010) de Denis de Rougemont  Hi intervindran: —August Monzon i Arazo (Universitat de València\, membre del Centre Ecumènic Interconfessional de València). —Joan Alfred Martínez i Seguí (Universitat de València\, traductor i curador del llibre).  Denis de Rougemont (1906 – 1985) forma part del moviment dels inconformistes dels anys trenta i és un dels autors més originals de la filosofia política contemporània. En la línia d’un federalisme integral d’arrel calvinista i proudhoniana\, posa les bases d’una Europa «una i diversa»\, capaç de superar tant l’hegemonia dels estats nacionals com la visió mercantilista dominant.  El llibre Federalisme\, personalisme\, ecumenisme. La inspiració europea inclou una selecció de textos ben significatius de l’escriptor suís. L’antologia del llibre “La part del Diable”\, escrit en 1942\, subratlla la necessitat de reflexionar sobre el mal radical i la responsabilitat humana a partir de la terrible experiència dels totalitarismes del segle xx. L’assaig «Definició de persona» és un dels primers escrits de l’autor\, on presenta la matriu filosòfica que inspira tot el seu pensament. Per últim\, l’article «Federalisme\, personalisme\, ecumenisme»\, pertanyent a la seua etapa de maduresa\, lliga magistralment aquests tres conceptes –polític\, filosòfic i religiós– en una proposta suggerent a l’hora de superar l’actual crisi civilitzatòria.
URL:https://octubre.cat/activitat/presentacio-federalisme-personalisme-ecumenisme/
LOCATION:No definit
CATEGORIES:Literatura
ATTACH;FMTTYPE=image/jpeg:https://octubre.cat/www/wp-content/uploads/2020/07/activitat1330.jpg
END:VEVENT
END:VCALENDAR