BEGIN:VCALENDAR
VERSION:2.0
PRODID:-//Octubre Centre de Cultura Contemporània - ECPv5.1.6//NONSGML v1.0//EN
CALSCALE:GREGORIAN
METHOD:PUBLISH
X-WR-CALNAME:Octubre Centre de Cultura Contemporània
X-ORIGINAL-URL:https://octubre.cat
X-WR-CALDESC:Events for Octubre Centre de Cultura Contemporània
BEGIN:VTIMEZONE
TZID:Europe/Andorra
BEGIN:DAYLIGHT
TZOFFSETFROM:+0100
TZOFFSETTO:+0200
TZNAME:CEST
DTSTART:20110327T010000
END:DAYLIGHT
BEGIN:STANDARD
TZOFFSETFROM:+0200
TZOFFSETTO:+0100
TZNAME:CET
DTSTART:20111030T010000
END:STANDARD
END:VTIMEZONE
BEGIN:VEVENT
DTSTART;TZID=Europe/Andorra:20110524T190000
DTEND;TZID=Europe/Andorra:20110524T190000
DTSTAMP:20260424T055350
CREATED:20200729T165530Z
LAST-MODIFIED:20200730T042823Z
UID:9233-1306263600-1306263600@octubre.cat
SUMMARY:Presentació 'Etty Hillesum\, un ungüent per a tantes ferides'
DESCRIPTION:Dimarts 24 de maig\, a les 19.00h: Presentació del llibre a càrrec de Francesc Fontana (president d’Amistat Judeo-Cristiana)\, Gustau Muñoz (economista\, traductor i assagista) i Emilia Bea (curadora de l’edició).  \n  \n  \n\nEtty Hillesum\, un ungüent per a tantes ferides   Presentació a càrrec de Francesc Fontana (president d’Amistat Judeo-Cristiana)\, Gustau Muñoz (economista\, traductor i assagista. Director de publicacions periòdiques de la Universitat de València) i Emilia Bea (curadora de l’edició).   Organitza: Amistat Judeo-Cristiana  L’editorial Denes acaba de publicar Etty Hillesum. Un ungüent per a tantes ferides. Es tracta del primer assaig en la nostra llengua sobre l’escriptora jueva holandesa\, autora del cèlebre Diari en el qual recull el seu creixement interior en un clima hostil\, durant l’ocupació nazi.  Etty Hillesum (Middelburg 1914 – Auschwitz 1943)\, en una situació extrema de barbàrie i deshumanització\, encara confia en l’arribada d’un món nou\, al qual només pot contribuir amb el testimoni de la seua escriptura i fent del seu cor un amagatall per a Déu. Aquests són els seus únics instruments de resistència. Per a l’autor\, la lliçó més important d’aquest sorprenent procés espiritual serà la capacitat de percebre la bellesa de la vida enmig del dolor i del patiment.   Etty Hillesum. Un ungüent per a tantes ferides és l’obra pòstuma d’Adrià Chavarria Curto (Tortosa 1972 – Barcelona 2009)\, professor de Secundària\, crític literari\, assagista i poeta. El seu traspàs es va produir quan es trobava redactant l’assaig. La curadora del llibre és Emilia Bea\, professora de la Universitat de València i autora del pròleg on narra les vicissituds que ha patit l’elaboració del llibre.
URL:https://octubre.cat/activitat/presentacio-etty-hillesum-un-unguent-per-a-tantes-ferides/
LOCATION:No definit
CATEGORIES:Literatura
ATTACH;FMTTYPE=image/jpeg:https://octubre.cat/www/wp-content/uploads/2020/07/activitat1461.jpg
END:VEVENT
END:VCALENDAR