BEGIN:VCALENDAR
VERSION:2.0
PRODID:-//Octubre Centre de Cultura Contemporània - ECPv5.1.6//NONSGML v1.0//EN
CALSCALE:GREGORIAN
METHOD:PUBLISH
X-WR-CALNAME:Octubre Centre de Cultura Contemporània
X-ORIGINAL-URL:https://octubre.cat
X-WR-CALDESC:Events for Octubre Centre de Cultura Contemporània
BEGIN:VTIMEZONE
TZID:Europe/Andorra
BEGIN:DAYLIGHT
TZOFFSETFROM:+0100
TZOFFSETTO:+0200
TZNAME:CEST
DTSTART:20100328T010000
END:DAYLIGHT
BEGIN:STANDARD
TZOFFSETFROM:+0200
TZOFFSETTO:+0100
TZNAME:CET
DTSTART:20101031T010000
END:STANDARD
END:VTIMEZONE
BEGIN:VEVENT
DTSTART;TZID=Europe/Andorra:20100311T200000
DTEND;TZID=Europe/Andorra:20100311T200000
DTSTAMP:20260420T180332
CREATED:20200729T164823Z
LAST-MODIFIED:20200729T182854Z
UID:8784-1268337600-1268337600@octubre.cat
SUMMARY:Presentació “El secret del Mas de la Pedra”
DESCRIPTION:Dijous 11 de març\, a les 20.00h: Presentació del llibre “El secret del mas de la pedra” (Ed. Tabarca)\, d’Ivan Carbonell. Presenta: Emili Payà.   \n  \n  \n\nPresentació del llibre El secret del Mas de la Pedra (ed. Tabarca) d’Ivan Carbonell.  Presenta l’acte: Emili Payà\, coordinador cultural de l’Octubre CCC.   Ivan Carbonell Iglesias (València\, L’Horta\, 1979) és llicenciat en Filologia Catalana i Humanitats per la Universitat de València\, on estudia el Grau d’Història. És professor de valencià en secundària i ha guanyat nombrosos premis de literatura breu\, com ara el Sambori universitari\, el Felipe Ramis o els Premis Bancaixa-Universitat de València. Té publicada a l’editorial Tabarca La nit de la princesa i amb la novel·la El secret del Mas de la Pedra va guanyar l’XI Premi de Narrativa Ciutat de Torrent 2009. És membre de l’Associació Internacional de Llengua i Literatura Catalana (AILC) i del Centre d’Estudis Contestans de Cocentaina (CEC).   L’obra Una partida de cartes jugada fa més d’un segle al Raval de Cocentaina. La sospita d’unes trampes que decidiren qui es quedà un mas de la serra\, apostat de manera temerària aquella nit. Un assassinat mai no demostrat i un trencaclosques del qual ningú vol parlar un segle després. I de sobte una colla de joves que ha acabat el curs de quart d’ESO i es disposen a gaudir de l’estiu i de les festes de moros i cristians\, fins que a Juli se li ocorre embarcar els seus amics en la investigació sobre el Mas de la Pedra. A partir d’ací coneixeran l’emoció de descobrir papers antics i textos ocults\, el sabor de l’amenaça d’uns motoristes desconeguts\, la por en entrar de nit als arxius\, els misteris d’un convent de franciscans\, el dolor dels colps o les dificultats d’un perillós primer amor a l’ombra de la serra Mariola. La partida de cartes torna a jugar-se un segle després i Juli i els seus amics tenen una bona mà. Tanmateix\, fa més d’un segle la partida potser acabà en assassinat. Ara l’aposta dels joves pot ser igual de temerària.
URL:https://octubre.cat/activitat/presentacio-el-secret-del-mas-de-la-pedra/
LOCATION:No definit
CATEGORIES:Literatura
ATTACH;FMTTYPE=image/jpeg:https://octubre.cat/www/wp-content/uploads/2020/07/activitat1131.jpg
END:VEVENT
END:VCALENDAR