BEGIN:VCALENDAR
VERSION:2.0
PRODID:-//Octubre Centre de Cultura Contemporània - ECPv5.1.6//NONSGML v1.0//EN
CALSCALE:GREGORIAN
METHOD:PUBLISH
X-WR-CALNAME:Octubre Centre de Cultura Contemporània
X-ORIGINAL-URL:https://octubre.cat
X-WR-CALDESC:Events for Octubre Centre de Cultura Contemporània
BEGIN:VTIMEZONE
TZID:Europe/Andorra
BEGIN:DAYLIGHT
TZOFFSETFROM:+0100
TZOFFSETTO:+0200
TZNAME:CEST
DTSTART:20230326T010000
END:DAYLIGHT
BEGIN:STANDARD
TZOFFSETFROM:+0200
TZOFFSETTO:+0100
TZNAME:CET
DTSTART:20231029T010000
END:STANDARD
END:VTIMEZONE
BEGIN:VEVENT
DTSTART;TZID=Europe/Andorra:20231129T190000
DTEND;TZID=Europe/Andorra:20231129T190000
DTSTAMP:20260422T115613
CREATED:20231116T164938Z
LAST-MODIFIED:20250710T082912Z
UID:20579-1701284400-1701284400@octubre.cat
SUMMARY:Presentació dels Premis Altea de Literatura
DESCRIPTION:Es presenten els llibres guanyadors: \n—Solsmarina\, de Xavier Mínguez (Premi Carmelina Sánchez-Cutillas de Novel·la i Prosa Creativa) \n—L’últim Ngaranna\, de David Boteller (Premi Altea de Literatura Infantil i Juvenil) \nAmb la participació dels autors Xavier Mínguez i David Boteller acompanyats per\n—Jordi Sebastià\, escriptor\n—Joan Borja\, director de la Càtedra Enric Valor de la Universitat d’Alacant\n—Pepa Pérez Llorens\, regidora de Cultura de l’Ajuntament d’Altea\n—Diego Zaragozí\, alcalde d’Altea \n  \n \n(Aila Edicions)
URL:https://octubre.cat/activitat/presentacio-dels-premis-altea-de-literatura/
LOCATION:Llibreria Fan Set
CATEGORIES:Literatura
ATTACH;FMTTYPE=image/jpeg:https://octubre.cat/www/wp-content/uploads/2022/04/llibreria-fan-set.jpg
END:VEVENT
END:VCALENDAR