BEGIN:VCALENDAR
VERSION:2.0
PRODID:-//Octubre Centre de Cultura Contemporània - ECPv5.1.6//NONSGML v1.0//EN
CALSCALE:GREGORIAN
METHOD:PUBLISH
X-WR-CALNAME:Octubre Centre de Cultura Contemporània
X-ORIGINAL-URL:https://octubre.cat
X-WR-CALDESC:Events for Octubre Centre de Cultura Contemporània
BEGIN:VTIMEZONE
TZID:Europe/Andorra
BEGIN:DAYLIGHT
TZOFFSETFROM:+0100
TZOFFSETTO:+0200
TZNAME:CEST
DTSTART:20180325T010000
END:DAYLIGHT
BEGIN:STANDARD
TZOFFSETFROM:+0200
TZOFFSETTO:+0100
TZNAME:CET
DTSTART:20181028T010000
END:STANDARD
END:VTIMEZONE
BEGIN:VEVENT
DTSTART;TZID=Europe/Andorra:20181025T190000
DTEND;TZID=Europe/Andorra:20181025T190000
DTSTAMP:20260423T075304
CREATED:20200729T173142Z
LAST-MODIFIED:20200729T190936Z
UID:11284-1540494000-1540494000@octubre.cat
SUMMARY:Presentació dels llibres "Poemari per a ociosos"\, de Manel Pitarch i "El jurament"\, de Sílvia Romero
DESCRIPTION:Dijous 25 d’octubre a les 19.00h i a la llibreria Fan Set.	 \n  \n  \n\n 	 Amb els autors acompanyats per la poetessa Maria Carme Arnau i el filòleg Ferran Carbó.  Poemari per a ociosos\, premi de poesia Ibn Hzam  El jurament\, premi de narrativa Blai Bellver  Edicions Bromera
URL:https://octubre.cat/activitat/presentacio-dels-llibres-poemari-per-a-ociosos-de-manel-pitarch-i-el-jurament-de-silvia-romero/
LOCATION:Llibreria Fan Set
CATEGORIES:Literatura
ATTACH;FMTTYPE=image/jpeg:https://octubre.cat/www/wp-content/uploads/2020/07/activitat3122.jpg
END:VEVENT
END:VCALENDAR