BEGIN:VCALENDAR
VERSION:2.0
PRODID:-//Octubre Centre de Cultura Contemporània - ECPv5.1.6//NONSGML v1.0//EN
CALSCALE:GREGORIAN
METHOD:PUBLISH
X-WR-CALNAME:Octubre Centre de Cultura Contemporània
X-ORIGINAL-URL:https://octubre.cat
X-WR-CALDESC:Events for Octubre Centre de Cultura Contemporània
BEGIN:VTIMEZONE
TZID:Europe/Andorra
BEGIN:DAYLIGHT
TZOFFSETFROM:+0100
TZOFFSETTO:+0200
TZNAME:CEST
DTSTART:20070325T010000
END:DAYLIGHT
BEGIN:STANDARD
TZOFFSETFROM:+0200
TZOFFSETTO:+0100
TZNAME:CET
DTSTART:20071028T010000
END:STANDARD
END:VTIMEZONE
BEGIN:VEVENT
DTSTART;TZID=Europe/Andorra:20070208T000000
DTEND;TZID=Europe/Andorra:20070208T000000
DTSTAMP:20260420T182105
CREATED:20251227T175410Z
LAST-MODIFIED:20260106T165941Z
UID:24381-1170892800-1170892800@octubre.cat
SUMMARY:Presentació dels llibres La Divina Tramoia i L'escena del futur.
DESCRIPTION:Presentació dels llibre La Divina Tramoia\, de Manuel Molins\, i L’escena del futur: memòria de les arts escèniques als Països Catalans (1975-2005) (Argumenta)
URL:https://octubre.cat/activitat/presentacio-dels-llibre-la-divina-tramoia-i-lescena-del-futur/
LOCATION:No definit
CATEGORIES:Literatura,Teatre
ATTACH;FMTTYPE=image/jpeg:https://octubre.cat/www/wp-content/uploads/2020/07/llibres1.jpg
END:VEVENT
END:VCALENDAR