BEGIN:VCALENDAR
VERSION:2.0
PRODID:-//Octubre Centre de Cultura Contemporània - ECPv5.1.6//NONSGML v1.0//EN
CALSCALE:GREGORIAN
METHOD:PUBLISH
X-WR-CALNAME:Octubre Centre de Cultura Contemporània
X-ORIGINAL-URL:https://octubre.cat
X-WR-CALDESC:Events for Octubre Centre de Cultura Contemporània
BEGIN:VTIMEZONE
TZID:Europe/Andorra
BEGIN:DAYLIGHT
TZOFFSETFROM:+0100
TZOFFSETTO:+0200
TZNAME:CEST
DTSTART:20160327T010000
END:DAYLIGHT
BEGIN:STANDARD
TZOFFSETFROM:+0200
TZOFFSETTO:+0100
TZNAME:CET
DTSTART:20161030T010000
END:STANDARD
END:VTIMEZONE
BEGIN:VEVENT
DTSTART;TZID=Europe/Andorra:20160505T190000
DTEND;TZID=Europe/Andorra:20160505T190000
DTSTAMP:20260421T153512
CREATED:20200729T171810Z
LAST-MODIFIED:20200729T185500Z
UID:10635-1462474800-1462474800@octubre.cat
SUMMARY:Presentació d''Els estralls de la memòria'\, de Jaume Rausell
DESCRIPTION:Dijous 5 de maig a les 19.00h. Amb l’autor i Arnau Carné (editor de Tigre de Paper).  \n  \n  \n\n Amb l’autor i Arnau Carné editor de Tigre de Paper.  Nascut a València el 1969\, des de la seva posició de mestre de català de secundària\, és un lluitador incansable per la recuperació i dignificació de la nostra llengua front a l’hostilitat de la realitat sociolingüística de les comarques que envolten la capital del Túria. Debuta en el panorama literari català amb aquesta novel·la; materialització de l’enuig i la desplaença que mostra l’autor pel caire i la deriva de la societat occidental actual i del compromís per la creació d’un món més just\, amb la paraula com a eina de denúncia\, alhora que precursora d’altres escrits igualment controvertits per la immediatesa de les incògnites que presenten.
URL:https://octubre.cat/activitat/presentacio-dels-estralls-de-la-memoria-de-jaume-rausell/
LOCATION:Llibreria 3i4
CATEGORIES:Literatura
ATTACH;FMTTYPE=image/jpeg:https://octubre.cat/www/wp-content/uploads/2020/07/activitat2567.jpg
END:VEVENT
END:VCALENDAR