BEGIN:VCALENDAR
VERSION:2.0
PRODID:-//Octubre Centre de Cultura Contemporània - ECPv5.1.6//NONSGML v1.0//EN
CALSCALE:GREGORIAN
METHOD:PUBLISH
X-WR-CALNAME:Octubre Centre de Cultura Contemporània
X-ORIGINAL-URL:https://octubre.cat
X-WR-CALDESC:Events for Octubre Centre de Cultura Contemporània
BEGIN:VTIMEZONE
TZID:Europe/Andorra
BEGIN:DAYLIGHT
TZOFFSETFROM:+0100
TZOFFSETTO:+0200
TZNAME:CEST
DTSTART:20180325T010000
END:DAYLIGHT
BEGIN:STANDARD
TZOFFSETFROM:+0200
TZOFFSETTO:+0100
TZNAME:CET
DTSTART:20181028T010000
END:STANDARD
END:VTIMEZONE
BEGIN:VEVENT
DTSTART;TZID=Europe/Andorra:20180417T190000
DTEND;TZID=Europe/Andorra:20180417T190000
DTSTAMP:20260421T205023
CREATED:20200729T190349Z
LAST-MODIFIED:20200729T190349Z
UID:13378-1523991600-1523991600@octubre.cat
SUMMARY:Presentació dels dos darrers títols de la col·lecció Figura (UB)
DESCRIPTION:Dimarts 17 d’abril a les 19.00h\, amb Jaume Pérez Montaner\, Salvador Company i Antoni Martí Monterde.  \n  \n  \n\n Es presenten els llibres Escrits sobre literatura comparada\, de Joseph Texte\, traduït per Salvador Company i Anna Torcal i Comparatistes sense comparatisme. La literatura comparada a Catalunya\, a cura d’Antoni Martí Monterde i Teresa Rosell Nicolás.  En l’acte intervindran Jaume Pérez Montaner i Salvador Company\, escriptors\, i Antoni Martí Monterde\, professor de la Universitat de Barcelona i director de la col·lecció Figura.  Edicions Universitat de Barcelona amb la col·laboració del Museu d’Història de Barcelona.
URL:https://octubre.cat/activitat/presentacio-dels-dos-darrers-titols-de-la-colleccio-figura-ub/
LOCATION:Llibreria Fan Set
CATEGORIES:Literatura
ATTACH;FMTTYPE=image/jpeg:https://octubre.cat/www/wp-content/uploads/2020/07/activitat3020.jpg
END:VEVENT
END:VCALENDAR