BEGIN:VCALENDAR
VERSION:2.0
PRODID:-//Octubre Centre de Cultura Contemporània - ECPv5.1.6//NONSGML v1.0//EN
CALSCALE:GREGORIAN
METHOD:PUBLISH
X-WR-CALNAME:Octubre Centre de Cultura Contemporània
X-ORIGINAL-URL:https://octubre.cat
X-WR-CALDESC:Events for Octubre Centre de Cultura Contemporània
BEGIN:VTIMEZONE
TZID:Europe/Andorra
BEGIN:DAYLIGHT
TZOFFSETFROM:+0100
TZOFFSETTO:+0200
TZNAME:CEST
DTSTART:20180325T010000
END:DAYLIGHT
BEGIN:STANDARD
TZOFFSETFROM:+0200
TZOFFSETTO:+0100
TZNAME:CET
DTSTART:20181028T010000
END:STANDARD
END:VTIMEZONE
BEGIN:VEVENT
DTSTART;TZID=Europe/Andorra:20180620T190000
DTEND;TZID=Europe/Andorra:20180620T190000
DTSTAMP:20260421T103730
CREATED:20200729T173058Z
LAST-MODIFIED:20200729T190902Z
UID:11240-1529521200-1529521200@octubre.cat
SUMMARY:Presentació del volum "La nova articulació catalana-valenciana-balear"
DESCRIPTION:Dimecres 20 de juny a les 19.00h. Amb Toni Gisbert\, Víctor Maceda\, Eliseu Seguí-Mas i Jordi Manent (coordinador del volum).	 \n  \n  \n\n 	 Coordinat per Jordi Manent (Revista de Catalunya)  Amb Toni Gisbert secretari d’Acció Cultural del País Valencià\, Víctor Maceda\, periodista d’El Temps\, Elies Seguí-Mas\, professor d’economia de la Universitat Politècnica de València i Jordi Manent\, coordinador del volum.
URL:https://octubre.cat/activitat/presentacio-del-volum-la-nova-articulacio-catalana-valenciana-balear/
CATEGORIES:Literatura
ATTACH;FMTTYPE=image/jpeg:https://octubre.cat/www/wp-content/uploads/2020/07/activitat3079.jpg
END:VEVENT
END:VCALENDAR