BEGIN:VCALENDAR
VERSION:2.0
PRODID:-//Octubre Centre de Cultura Contemporània - ECPv5.1.6//NONSGML v1.0//EN
CALSCALE:GREGORIAN
METHOD:PUBLISH
X-WR-CALNAME:Octubre Centre de Cultura Contemporània
X-ORIGINAL-URL:https://octubre.cat
X-WR-CALDESC:Events for Octubre Centre de Cultura Contemporània
BEGIN:VTIMEZONE
TZID:Europe/Andorra
BEGIN:DAYLIGHT
TZOFFSETFROM:+0100
TZOFFSETTO:+0200
TZNAME:CEST
DTSTART:20160327T010000
END:DAYLIGHT
BEGIN:STANDARD
TZOFFSETFROM:+0200
TZOFFSETTO:+0100
TZNAME:CET
DTSTART:20161030T010000
END:STANDARD
END:VTIMEZONE
BEGIN:VEVENT
DTSTART;TZID=Europe/Andorra:20161018T190000
DTEND;TZID=Europe/Andorra:20161018T190000
DTSTAMP:20260421T041753
CREATED:20200729T172037Z
LAST-MODIFIED:20200729T185604Z
UID:10793-1476817200-1476817200@octubre.cat
SUMMARY:Presentació del treball 'Impure'\, d’Anna Maria Staiano
DESCRIPTION:Dimarts 18 d’octubre a les 19.00h. Amb la participació de l’autora i diversos col·laboradors i una desfilada de CorpoREactivo.  \n  \n  \n\n La presentació comptarà amb la presència de l’autora i la participació de diversos col·laboradors. Es realitzarà també una desfilada CorpoREactivo.  Impure documenta deu anys de creacions corporals\, polisexuals i transfeministes de l’artista Anna Maria Staiano. Un projecte que trenca amb els esquemes de format\, gènere\, pràctiques artístiques i sexuals i que compta amb la col·laboració d’artistes i activistes feminista/queer/trans.  Impure intenta realitzar i expandir el potencial de la joieria contemporània per a generar noves formes i ampliar el seu camp d’acció. La publicació es converteix en una fusió de l’art amb la joieria\, la performance amb la moda i la fotografia amb la literatura.  El llibre ha estat editat en col·laboració amb La Erreria (House of Bent) i compta amb textos de José Ramón Alarcón\, Aldo Alcota\, Irene Ballester\, Graham Bell Tornado\, Johanna Caplliure\, Jesús García Cívico\, Kepa Karmona\, Ángela Molina\, Carmen Navarrete\, Marisol Salanova\, Rosa Sanchis\, Paula Valero i fotografies de Patricia Aragón\, Asún Bonilla\, Fabrizio Campisi\, Toni Cordero\, Fermín Jiménez Landa\, Vic Labadie\, David Macías Navarro\, Serena Rinaudo\, Joaquín Ruiz Espinosa\, Alejandro Sanchéz\, Carlos Valencia i Ana Wika. El disseny gràfic és de Judith Álvarez García.
URL:https://octubre.cat/activitat/presentacio-del-treball-impure-danna-maria-staiano/
LOCATION:Sala d’actes
CATEGORIES:Literatura
ATTACH;FMTTYPE=image/jpeg:https://octubre.cat/www/wp-content/uploads/2020/07/activitat2649.jpg
END:VEVENT
END:VCALENDAR