BEGIN:VCALENDAR
VERSION:2.0
PRODID:-//Octubre Centre de Cultura Contemporània - ECPv5.1.6//NONSGML v1.0//EN
CALSCALE:GREGORIAN
METHOD:PUBLISH
X-WR-CALNAME:Octubre Centre de Cultura Contemporània
X-ORIGINAL-URL:https://octubre.cat
X-WR-CALDESC:Events for Octubre Centre de Cultura Contemporània
BEGIN:VTIMEZONE
TZID:Europe/Andorra
BEGIN:DAYLIGHT
TZOFFSETFROM:+0100
TZOFFSETTO:+0200
TZNAME:CEST
DTSTART:20160327T010000
END:DAYLIGHT
BEGIN:STANDARD
TZOFFSETFROM:+0200
TZOFFSETTO:+0100
TZNAME:CET
DTSTART:20161030T010000
END:STANDARD
END:VTIMEZONE
BEGIN:VEVENT
DTSTART;TZID=Europe/Andorra:20160401T190000
DTEND;TZID=Europe/Andorra:20160401T190000
DTSTAMP:20260421T182419
CREATED:20200729T171732Z
LAST-MODIFIED:20200729T185442Z
UID:10594-1459537200-1459537200@octubre.cat
SUMMARY:Presentació d''El traductor'\, de Jovi Lozano-Seser
DESCRIPTION:Divendres 1 d’abril a les 19.00h i a la llibreria 3i4.  \n  \n  \n\n Premi Vila de Lloseta 2015 (AdiA Edicions).  “El traductor és el resultat d’una suma d’experiències personals i professionals que\, a l’hora de ser traslladades al paper\, no precisen del segell distintiu de l’autobiografia. No debades\, el protagonista d’aquesta novel·la té molt poc de mi o fins i tot ben poc; heus ací un dels reptes i alhora plaers de la creació literària: la recerca d’un jo inèdit\, l’exploració d’escenaris novells\, d’escenografies insòlites.”
URL:https://octubre.cat/activitat/presentacio-del-traductor-de-jovi-lozano-seser/
LOCATION:Llibreria 3i4
CATEGORIES:Literatura
ATTACH;FMTTYPE=image/jpeg:https://octubre.cat/www/wp-content/uploads/2020/07/activitat2546.jpg
END:VEVENT
END:VCALENDAR