BEGIN:VCALENDAR
VERSION:2.0
PRODID:-//Octubre Centre de Cultura Contemporània - ECPv5.1.6//NONSGML v1.0//EN
CALSCALE:GREGORIAN
METHOD:PUBLISH
X-WR-CALNAME:Octubre Centre de Cultura Contemporània
X-ORIGINAL-URL:https://octubre.cat
X-WR-CALDESC:Events for Octubre Centre de Cultura Contemporània
BEGIN:VTIMEZONE
TZID:Europe/Andorra
BEGIN:DAYLIGHT
TZOFFSETFROM:+0100
TZOFFSETTO:+0200
TZNAME:CEST
DTSTART:20080330T010000
END:DAYLIGHT
BEGIN:STANDARD
TZOFFSETFROM:+0200
TZOFFSETTO:+0100
TZNAME:CET
DTSTART:20081026T010000
END:STANDARD
END:VTIMEZONE
BEGIN:VEVENT
DTSTART;TZID=Europe/Andorra:20080514T200000
DTEND;TZID=Europe/Andorra:20080514T200000
DTSTAMP:20260420T194318
CREATED:20200729T181858Z
LAST-MODIFIED:20260110T190608Z
UID:12577-1210795200-1210795200@octubre.cat
SUMMARY:(((vibra))) Presentació del segell Sudamérica Eletrónica: Jorge Haro i Jorge Castro
DESCRIPTION:Tornen a valència dos dels pesos pensants de l’art electrònic argentí i\, per extensió\, sud-americà per presentar el segell/projecte Sudamérica Electrónica\, on la intenció és aglutinar\, mostrar i canalitzar l’heterogènia i rica producció experimental sonora i visual d’Amèrica Llatina cap a la península ibèrica. \nJorge Castro aka Fisternni: artista digital nascut a Córdoba\, Argentina\, el 1967. És un dels pioners de l’art electrònic a l’Argentina. Des del 1990 ha treballat en Vídeo-Àudio participant en importants festivals i biennals tant a nivell nacional com internacional. El seu treball ha estat presentat a Sud-amèrica\, Amèrica del Nord\, Europa i el sud-est asiàtic. \n Jorge Haro: nascut a Buenos Aires el 1963. És compositor\, artista sonor i audiovisual. Investiga en el camp de la música experimental\, les peces audiovisuals i les instal·lacions sonores. El seu treball ha estat publicat a l’Argentina\, Nord-amèrica i Europa. Ha realitzat concerts acusmàtics\, concerts audiovisuals i instal·lacions a l’Argentina\, l’Uruguai\, el Brasil\, el Perú\, els Estats Units\, l’estat espanyol\, Portugal\, França\, Suïssa\, Alemanya\, Polònia\, Dinamarca\, Àustria i els Països Baixos. Ha col·laborat amb Francisco López/Absolute Noise Ensemble\, Zbigniew Karkowski i Mitchell Akiyama\, entre d’altres artistes. \n—\nSessió del cicle (((vibra))) d’art sonor i música experimental.\nUna producció de l’Octubre CCC coordinada per Rubén García (Eozöon Rec. / València)
URL:https://octubre.cat/activitat/presentacio-del-segell-sudamerica-eletronica-jorge-haro-i-jorge-castro/
LOCATION:No definit
CATEGORIES:Vibra
ATTACH;FMTTYPE=image/jpeg:https://octubre.cat/www/wp-content/uploads/2020/07/musica1.jpg
END:VEVENT
END:VCALENDAR