BEGIN:VCALENDAR
VERSION:2.0
PRODID:-//Octubre Centre de Cultura Contemporània - ECPv5.1.6//NONSGML v1.0//EN
CALSCALE:GREGORIAN
METHOD:PUBLISH
X-WR-CALNAME:Octubre Centre de Cultura Contemporània
X-ORIGINAL-URL:https://octubre.cat
X-WR-CALDESC:Events for Octubre Centre de Cultura Contemporània
BEGIN:VTIMEZONE
TZID:Europe/Andorra
BEGIN:DAYLIGHT
TZOFFSETFROM:+0100
TZOFFSETTO:+0200
TZNAME:CEST
DTSTART:20220327T010000
END:DAYLIGHT
BEGIN:STANDARD
TZOFFSETFROM:+0200
TZOFFSETTO:+0100
TZNAME:CET
DTSTART:20221030T010000
END:STANDARD
END:VTIMEZONE
BEGIN:VEVENT
DTSTART;TZID=Europe/Andorra:20220407T190000
DTEND;TZID=Europe/Andorra:20220407T190000
DTSTAMP:20260420T164256
CREATED:20220331T135237Z
LAST-MODIFIED:20220331T141107Z
UID:18069-1649358000-1649358000@octubre.cat
SUMMARY:Presentació d'AINA\, el projecte per garantir el català en l'era digital
DESCRIPTION:Acció Cultural del País Valencià i el setmanari El Temps acullen la presentació d’AINA\, el projecte que vol “ensenyar” el català a les màquines. \nAcció Cultural del País Valencià (ACPV) i el setmanari El Temps presentaran el projecte AINA\, una iniciativa per fer possible que les màquines entenguen i parlen en català impulsada pel Departament de la Vicepresidència i de Polítiques Digitals i Territori de la Generalitat de Catalunya en col·laboració amb el Barcelona Supercomputing Center-Centro Nacional de Supercomputación (BSC-CNS). \n  \n \n  \nPrograma: \nL’acte estarà presidit per l’Hble. Sr. Jordi Puigneró\, vicepresident i conseller de Polítiques Digitals i Territori de la Generalitat de Catalunya \nTaula rodona ‘Una llengua intel·ligent. AINA\, el català en l’era digital’ amb les intervencions de:\n—Francisco Grimaldo\, subdirector de l’Escola Tècnica Superior d’Enginyeria de la Universitat de València i membre del Consell Rector de l’Associació Catalana d’Intel·ligència Artificial.\n—Rosa Agost\, professora de la Universitat Jaume I\, membre del Consell Rector de la CVMC i de l’Acadèmia Valenciana de la Llengua.\n—José Ignacio Pastor\, president d’ACICOM \nL’acte estarà presentat per la periodista Emma Tomàs i comptarà amb la intervenció musical d’Àlex Blat (Tardor). \n—\nProjecte AINA\nMés informació a la web de la Generalitat de Catalunya\nMés informació a la web d’ACPV \n—\nActe organitzat per ACPV i pel setmanari El Temps
URL:https://octubre.cat/activitat/presentacio-del-projecte-aina-una-llengua-intelligent-aina-el-catala-en-lera-digital/
LOCATION:Sala d’actes
CATEGORIES:Conferències i congressos
ATTACH;FMTTYPE=image/jpeg:https://octubre.cat/www/wp-content/uploads/2022/03/aina-cap.jpg
END:VEVENT
END:VCALENDAR