BEGIN:VCALENDAR
VERSION:2.0
PRODID:-//Octubre Centre de Cultura Contemporània - ECPv5.1.6//NONSGML v1.0//EN
CALSCALE:GREGORIAN
METHOD:PUBLISH
X-WR-CALNAME:Octubre Centre de Cultura Contemporània
X-ORIGINAL-URL:https://octubre.cat
X-WR-CALDESC:Events for Octubre Centre de Cultura Contemporània
BEGIN:VTIMEZONE
TZID:Europe/Andorra
BEGIN:DAYLIGHT
TZOFFSETFROM:+0100
TZOFFSETTO:+0200
TZNAME:CEST
DTSTART:20180325T010000
END:DAYLIGHT
BEGIN:STANDARD
TZOFFSETFROM:+0200
TZOFFSETTO:+0100
TZNAME:CET
DTSTART:20181028T010000
END:STANDARD
END:VTIMEZONE
BEGIN:VEVENT
DTSTART;TZID=Europe/Andorra:20180918T190000
DTEND;TZID=Europe/Andorra:20180918T190000
DTSTAMP:20260423T084331
CREATED:20200729T173119Z
LAST-MODIFIED:20200729T190919Z
UID:11261-1537297200-1537297200@octubre.cat
SUMMARY:Presentació del poemari "Veles"\, de Pau Sif
DESCRIPTION:Dimarts 18 de setembre a les 19.00h. Amb l’autor acompanyat per l’editor Toni Clapés i la poeta Begonya Pozo.	 \n  \n  \n\n 	 Presentat per Toni Clapés (editor) i Begonya Pozo (poeta).  Veles és el final d’un cicle poètic\, és un retorn gairebé homèric a casa després d’una batalla humana de proporcions èpiques. L’obra reuneix\, en una estructura treballada\, una sèrie de poemes que impacten per la força dels versos i per la varietat de registres i formes\, des del to còmic fins a l’elegia.  (Café Central)
URL:https://octubre.cat/activitat/presentacio-del-poemari-veles-de-pau-sif/
LOCATION:Llibreria Fan Set
CATEGORIES:Literatura
ATTACH;FMTTYPE=image/jpeg:https://octubre.cat/www/wp-content/uploads/2020/07/activitat3101.jpg
END:VEVENT
END:VCALENDAR