BEGIN:VCALENDAR
VERSION:2.0
PRODID:-//Octubre Centre de Cultura Contemporània - ECPv5.1.6//NONSGML v1.0//EN
CALSCALE:GREGORIAN
METHOD:PUBLISH
X-WR-CALNAME:Octubre Centre de Cultura Contemporània
X-ORIGINAL-URL:https://octubre.cat
X-WR-CALDESC:Events for Octubre Centre de Cultura Contemporània
BEGIN:VTIMEZONE
TZID:Europe/Andorra
BEGIN:DAYLIGHT
TZOFFSETFROM:+0100
TZOFFSETTO:+0200
TZNAME:CEST
DTSTART:20150329T010000
END:DAYLIGHT
BEGIN:STANDARD
TZOFFSETFROM:+0200
TZOFFSETTO:+0100
TZNAME:CET
DTSTART:20151025T010000
END:STANDARD
END:VTIMEZONE
BEGIN:VEVENT
DTSTART;TZID=Europe/Andorra:20150206T193000
DTEND;TZID=Europe/Andorra:20150206T193000
DTSTAMP:20260421T195206
CREATED:20200729T170856Z
LAST-MODIFIED:20200730T041342Z
UID:10046-1423251000-1423251000@octubre.cat
SUMMARY:Presentació del poemari 'Mare Omnium'
DESCRIPTION:Divendres 6 de febrer a les 19.30h. Antologia bilingüe il·lustrada catalano-portuguesa. Amb recital de poemes  \n  \n  \n\n Antologia bilingüe il·lustrada catalano-portuguesa Editorial Lastura. Pròleg de Carles Duarte. Il·lustracions d’Abel Dávila   Serà presentada per Xavier Frias Conde (editor/traductor) i Josep Micó Conejero (coordinador)   Hi llegiran poemes els deu autors i en la versió portuguesa ho farà Xavier Frias.   Autors: Ivan Brull\, Bibiana Collado\, Alba Fluixà\, Ari Garrido\, Imma López\, Manel Marí\, Josep Micó\, Francesc Mompó\, Àngels Moreno i Alfons Navarret
URL:https://octubre.cat/activitat/presentacio-del-poemari-mare-omnium/
LOCATION:Llibreria 3i4
CATEGORIES:Literatura
ATTACH;FMTTYPE=image/jpeg:https://octubre.cat/www/wp-content/uploads/2020/07/activitat2246.jpg
END:VEVENT
END:VCALENDAR