BEGIN:VCALENDAR
VERSION:2.0
PRODID:-//Octubre Centre de Cultura Contemporània - ECPv5.1.6//NONSGML v1.0//EN
CALSCALE:GREGORIAN
METHOD:PUBLISH
X-WR-CALNAME:Octubre Centre de Cultura Contemporània
X-ORIGINAL-URL:https://octubre.cat
X-WR-CALDESC:Events for Octubre Centre de Cultura Contemporània
BEGIN:VTIMEZONE
TZID:Europe/Andorra
BEGIN:DAYLIGHT
TZOFFSETFROM:+0100
TZOFFSETTO:+0200
TZNAME:CEST
DTSTART:20180325T010000
END:DAYLIGHT
BEGIN:STANDARD
TZOFFSETFROM:+0200
TZOFFSETTO:+0100
TZNAME:CET
DTSTART:20181028T010000
END:STANDARD
END:VTIMEZONE
BEGIN:VEVENT
DTSTART;TZID=Europe/Andorra:20180116T190000
DTEND;TZID=Europe/Andorra:20180116T190000
DTSTAMP:20260421T101327
CREATED:20200729T190241Z
LAST-MODIFIED:20200729T190241Z
UID:13308-1516129200-1516129200@octubre.cat
SUMMARY:Presentació del poemari 'Anit sempre'\, de Pere Císcar
DESCRIPTION:Dimarts 16 de gener a les 19.00h. Amb l’autor acompanyat per Francesc Calafat i Francesc Bononad.  \n  \n  \n\n Amb l’autor acompanyat per Francesc Calafat i Francesc Bononad.  “anit. sempre anit. sempre. la llàgrima de l’ànec i l’annex. un text tombat\, aquest. no el teu. el meu. el nom del porc que mor entre les brases. el porc i el nom. el crit de pol que ens empastifa l’ànima i els verals. de les paraules. ja veus. els gossos de l’aire que el mussol invoca. l’arrel que es dessarela amb una festa fesa. farem la creu a totes les cruïlles de la ciutat i de defora: escorça de granit de les llanternes: muntatge de la imatge que s’estimba i cau dalt (…)”  (Edicions del Buc)
URL:https://octubre.cat/activitat/presentacio-del-poemari-anit-sempre-de-pere-ciscar/
LOCATION:Llibreria Fan Set
CATEGORIES:Literatura
ATTACH;FMTTYPE=image/jpeg:https://octubre.cat/www/wp-content/uploads/2020/07/activitat2947.jpg
END:VEVENT
END:VCALENDAR