BEGIN:VCALENDAR
VERSION:2.0
PRODID:-//Octubre Centre de Cultura Contemporània - ECPv5.1.6//NONSGML v1.0//EN
CALSCALE:GREGORIAN
METHOD:PUBLISH
X-WR-CALNAME:Octubre Centre de Cultura Contemporània
X-ORIGINAL-URL:https://octubre.cat
X-WR-CALDESC:Events for Octubre Centre de Cultura Contemporània
BEGIN:VTIMEZONE
TZID:Europe/Andorra
BEGIN:DAYLIGHT
TZOFFSETFROM:+0100
TZOFFSETTO:+0200
TZNAME:CEST
DTSTART:20170326T010000
END:DAYLIGHT
BEGIN:STANDARD
TZOFFSETFROM:+0200
TZOFFSETTO:+0100
TZNAME:CET
DTSTART:20171029T010000
END:STANDARD
END:VTIMEZONE
BEGIN:VEVENT
DTSTART;TZID=Europe/Andorra:20171118T123000
DTEND;TZID=Europe/Andorra:20171118T123000
DTSTAMP:20260422T021700
CREATED:20200729T190216Z
LAST-MODIFIED:20200729T190216Z
UID:13282-1511008200-1511008200@octubre.cat
SUMMARY:Presentació del número 10 de la revista 'Concreta'
DESCRIPTION:Dissabte 18 de novembre a les 12.30h. Amb José Díaz Cuyás\, Nuria Enguita Mayo i Laura Vallés.  \n  \n  \n\n Amb la presència de José Díaz Cuyás\, editor convidat del número\, i de les editores Nuria Enguita Mayo i Laura Vallés.  A partir del fals documental Mondo Cane (Gualtiero Jacopetti\, 1962)\, Díaz Cuyás reflexionarà sobre l’imaginari global i el sensacionalisme dels costums dels altres en relació amb la cultura del turisme de masses naixent i la pràctica artística de la dècada dels seixanta.  (Concreta)
URL:https://octubre.cat/activitat/presentacio-del-numero-10-de-la-revista-concreta/
LOCATION:Sala d’actes
CATEGORIES:Literatura
ATTACH;FMTTYPE=image/jpeg:https://octubre.cat/www/wp-content/uploads/2020/07/activitat2922.jpg
END:VEVENT
END:VCALENDAR