BEGIN:VCALENDAR
VERSION:2.0
PRODID:-//Octubre Centre de Cultura Contemporània - ECPv5.1.6//NONSGML v1.0//EN
CALSCALE:GREGORIAN
METHOD:PUBLISH
X-WR-CALNAME:Octubre Centre de Cultura Contemporània
X-ORIGINAL-URL:https://octubre.cat
X-WR-CALDESC:Events for Octubre Centre de Cultura Contemporània
BEGIN:VTIMEZONE
TZID:Europe/Andorra
BEGIN:DAYLIGHT
TZOFFSETFROM:+0100
TZOFFSETTO:+0200
TZNAME:CEST
DTSTART:20080330T010000
END:DAYLIGHT
BEGIN:STANDARD
TZOFFSETFROM:+0200
TZOFFSETTO:+0100
TZNAME:CET
DTSTART:20081026T010000
END:STANDARD
END:VTIMEZONE
BEGIN:VEVENT
DTSTART;TZID=Europe/Andorra:20080911T193000
DTEND;TZID=Europe/Andorra:20080911T193000
DTSTAMP:20260420T225203
CREATED:20200729T181950Z
LAST-MODIFIED:20200730T035818Z
UID:12630-1221161400-1221161400@octubre.cat
SUMMARY:Presentació del número 006 de la revista Paisea
DESCRIPTION:Dijous 11 de setembre\, a les 19.30h Presentació del número 006 d’aquesta publicació dedicada al paisatge.  \n  \n  \n\nPaisea és una revista trimestral amb seu a València que es distribueix a tots els continents i que mostra diversos projectes i formes d’actuar amb tot allò relacionat amb el paisatge\, des d’una òptica de conservació\, respecte i equilibri. Des de Paisea són conscients de la problemàtica global i particular dels nostres paisatges i se situen al present quant a materials\, tècniques\, llenguatges\, etc.  El número 006\, que porta per títol “el grafismo en el paisaje”\, recull diversos projectes i articles de professionals com Joan Brossa\, Xavier Mariscal\, Teresa Sapey\, West 8\, Atélier Jean Nouvel\, Nacho Lavernia\, Daniel Nebot\, Paco Bascuñán\, etc.  Alhora\, s’informarà d’una nova revista que la mateixa editorial llançarà el gener de 2009\, paiseaDos\, que tractarà el paisatgisme des d’una òptica geogràfica.
URL:https://octubre.cat/activitat/presentacio-del-numero-006-de-la-revista-paisea/
LOCATION:No definit
CATEGORIES:Literatura
ATTACH;FMTTYPE=image/jpeg:https://octubre.cat/www/wp-content/uploads/2020/07/activitat652.jpg
END:VEVENT
END:VCALENDAR