BEGIN:VCALENDAR
VERSION:2.0
PRODID:-//Octubre Centre de Cultura Contemporània - ECPv5.1.6//NONSGML v1.0//EN
CALSCALE:GREGORIAN
METHOD:PUBLISH
X-WR-CALNAME:Octubre Centre de Cultura Contemporània
X-ORIGINAL-URL:https://octubre.cat
X-WR-CALDESC:Events for Octubre Centre de Cultura Contemporània
BEGIN:VTIMEZONE
TZID:Europe/Andorra
BEGIN:DAYLIGHT
TZOFFSETFROM:+0100
TZOFFSETTO:+0200
TZNAME:CEST
DTSTART:20080330T010000
END:DAYLIGHT
BEGIN:STANDARD
TZOFFSETFROM:+0200
TZOFFSETTO:+0100
TZNAME:CET
DTSTART:20081026T010000
END:STANDARD
END:VTIMEZONE
BEGIN:VEVENT
DTSTART;TZID=Europe/Andorra:20081125T200000
DTEND;TZID=Europe/Andorra:20081125T200000
DTSTAMP:20260420T171833
CREATED:20200730T035904Z
LAST-MODIFIED:20200730T035904Z
UID:14035-1227643200-1227643200@octubre.cat
SUMMARY:Presentació del Music Festbike
DESCRIPTION:Dimarts 25 de novembre a les 20.00h  \n  \n  \n\nFestival sobre música i bicicleta que tindrà lloc a València del 27 al 29 de novembre.  Presentació a càrrec de: -Un representant de l’Associació Carril Bici -Rafa Merín (El Caiman Producciones) -José Gimeno (Playproducciones.com) -Manuel Lorente -Un representant de La Pulquería  + projecció d’un DVD (5′)
URL:https://octubre.cat/activitat/presentacio-del-music-festbike/
LOCATION:No definit
CATEGORIES:Literatura
ATTACH;FMTTYPE=image/jpeg:https://octubre.cat/www/wp-content/uploads/2020/07/presentacions1.jpg
END:VEVENT
END:VCALENDAR