BEGIN:VCALENDAR
VERSION:2.0
PRODID:-//Octubre Centre de Cultura Contemporània - ECPv5.1.6//NONSGML v1.0//EN
CALSCALE:GREGORIAN
METHOD:PUBLISH
X-WR-CALNAME:Octubre Centre de Cultura Contemporània
X-ORIGINAL-URL:https://octubre.cat
X-WR-CALDESC:Events for Octubre Centre de Cultura Contemporània
BEGIN:VTIMEZONE
TZID:Europe/Andorra
BEGIN:DAYLIGHT
TZOFFSETFROM:+0100
TZOFFSETTO:+0200
TZNAME:CEST
DTSTART:20160327T010000
END:DAYLIGHT
BEGIN:STANDARD
TZOFFSETFROM:+0200
TZOFFSETTO:+0100
TZNAME:CET
DTSTART:20161030T010000
END:STANDARD
END:VTIMEZONE
BEGIN:VEVENT
DTSTART;TZID=Europe/Andorra:20160831T190000
DTEND;TZID=Europe/Andorra:20160831T190000
DTSTAMP:20260421T182441
CREATED:20200729T172626Z
LAST-MODIFIED:20200729T185839Z
UID:11167-1472670000-1472670000@octubre.cat
SUMMARY:Presentació del llibre 'Vogant pels vents'\, de Josep Dionís Martínez
DESCRIPTION:Dimecres 20 de setembre a les 19.00h i a la llibreria Fan Set.  \n  \n  \n\nVogant pels vents és un poemari que ha eixit de la ploma poètica de l’escriptor\, tot recordant els anys viscuts en tres llocs diferents: Bellpuig (Lleida\, 1959-1964)\, País Basc (1968-1972) i Sagunt\, durant la resta dels temps; aquests són els llocs que conformen les tres bisectrius del triangle viatger de l’homo viator.  (Neopàtria)
URL:https://octubre.cat/activitat/presentacio-del-llibre-vogant-pels-vents-de-josep-dionis-martinez/
LOCATION:Llibreria Fan Set
CATEGORIES:Literatura
ATTACH;FMTTYPE=image/jpeg:https://octubre.cat/www/wp-content/uploads/2020/07/activitat2843.jpg
END:VEVENT
END:VCALENDAR