BEGIN:VCALENDAR
VERSION:2.0
PRODID:-//Octubre Centre de Cultura Contemporània - ECPv5.1.6//NONSGML v1.0//EN
CALSCALE:GREGORIAN
METHOD:PUBLISH
X-WR-CALNAME:Octubre Centre de Cultura Contemporània
X-ORIGINAL-URL:https://octubre.cat
X-WR-CALDESC:Events for Octubre Centre de Cultura Contemporània
BEGIN:VTIMEZONE
TZID:Europe/Andorra
BEGIN:DAYLIGHT
TZOFFSETFROM:+0100
TZOFFSETTO:+0200
TZNAME:CEST
DTSTART:20140330T010000
END:DAYLIGHT
BEGIN:STANDARD
TZOFFSETFROM:+0200
TZOFFSETTO:+0100
TZNAME:CET
DTSTART:20141026T010000
END:STANDARD
END:VTIMEZONE
BEGIN:VEVENT
DTSTART;TZID=Europe/Andorra:20140918T190000
DTEND;TZID=Europe/Andorra:20140918T190000
DTSTAMP:20260421T211229
CREATED:20200729T170602Z
LAST-MODIFIED:20200730T041209Z
UID:9856-1411066800-1411066800@octubre.cat
SUMMARY:Presentació del llibre 'Vista parcial'\, de Tobies Grimaltos
DESCRIPTION:Dijous 18 de setembre\, a les 19.00h\, a la llibreria 3i4.  La presentació anirà a càrrec d’Urbà Lozano\, Anna Moner i Gustau Muñoz.  \n  \n  \n\n Publicacions de la Universitat de València (PUV)  La presentació anirà a càrrec d’Urbà Lozano\, Anna Moner i Gustau Muñoz.  Dels assumptes que ens importen tenim una vista merament parcial\, és a dir\, incompleta i interessada. Potser una manera de completar la nostra visió és contrastar i compartir perspectives particulars. Examinar-les uns i altres per esbrinar què ens acosta i què ens separa\, què havíem vist ja nosaltres i què ens aporta una altra perspectiva. Aquest llibre de Tobies Grimaltos és un recull de visions parcials i provisionals\, provatures d’acostament\, a alguns dels temes que ens importen. Són assaigs breus sobre qüestions quotidianes\, o no tan quotidianes\, que ens fan pensar\, que ens interroguen i ens sorprenen\, que ens qüestionen: la identitat i el pas del temps\, la llengua i la visió del món\, la concepció que tenim de nosaltres mateixos i l’autoengany\, i moltes altres coses\, que són examinades en cinquanta-tres càpsules en les quals es mira la vida amb ulleres de prop.
URL:https://octubre.cat/activitat/presentacio-del-llibre-vista-parcial-de-tobies-grimaltos/
LOCATION:Llibreria 3i4
CATEGORIES:Literatura
ATTACH;FMTTYPE=image/jpeg:https://octubre.cat/www/wp-content/uploads/2020/07/activitat2124.jpg
END:VEVENT
END:VCALENDAR