BEGIN:VCALENDAR
VERSION:2.0
PRODID:-//Octubre Centre de Cultura Contemporània - ECPv5.1.6//NONSGML v1.0//EN
CALSCALE:GREGORIAN
METHOD:PUBLISH
X-WR-CALNAME:Octubre Centre de Cultura Contemporània
X-ORIGINAL-URL:https://octubre.cat
X-WR-CALDESC:Events for Octubre Centre de Cultura Contemporània
BEGIN:VTIMEZONE
TZID:Europe/Andorra
BEGIN:DAYLIGHT
TZOFFSETFROM:+0100
TZOFFSETTO:+0200
TZNAME:CEST
DTSTART:20130331T010000
END:DAYLIGHT
BEGIN:STANDARD
TZOFFSETFROM:+0200
TZOFFSETTO:+0100
TZNAME:CET
DTSTART:20131027T010000
END:STANDARD
END:VTIMEZONE
BEGIN:VEVENT
DTSTART;TZID=Europe/Andorra:20131023T190000
DTEND;TZID=Europe/Andorra:20131023T190000
DTSTAMP:20260421T064432
CREATED:20200729T170200Z
LAST-MODIFIED:20200729T184222Z
UID:9612-1382554800-1382554800@octubre.cat
SUMMARY:Presentació del llibre 'Virginia Woolf i el Grup de Bloomsbury'\, de Marta Pessarrodona
DESCRIPTION:Dimecres 23 d’octubre a les 19.00h\, a la llibreria 3i4\, amb l’autora i Josep Ballester  \n  \n  \n\n (Ara Llibres)  Comptarem amb la presència de l’autora i de Josep Ballester.  L’any 1972\, Marta Pessarrodona va viatjar a Anglaterra sense data de retorn. Des d’una casa victoriana de Nottingham\, on hi tenia una cambra pròpia\, va iniciar la lectura de Virgina Woolf\, i en molt poc temps\, l’autora de títols tan extraordinaris com Mrs. Dalloway o Al far es convertiria en la seva professora d’anglès particular i en la seva fascinació més viva.  Des de llavors\, Marta Pessarrodona ha aprofundit com ningú en el fascinant món del Grup de Bloomsbury\, al voltant del qual trobem alguns dels intel·lectuals més destacats del segle xx: escriptors com E.M. Forster\, T.S. Eliot o Lytton Strachey; pintors com Roger Fry o Duncan Grant; filòsofs com Maynard Keynes o Bertrand Russell; figures tan extraordinàries com la ballarina Lydia Lopokova i l’aristòcrata Lady Ottoline Morrell\, i evidentment\, les incomparables germanes Stephen\, Vanessa Bell i Virginia Woolf.  Avui\, anys més tard\, la passió de Marta Pessarrodona per aquests personatges\, alguns dels quals va arribar a tractar\, i per aquella època no ha disminuït en absolut. Virgina Woolf i el Grup de Bloomsbury n’és el seu homenatge més personal.
URL:https://octubre.cat/activitat/presentacio-del-llibre-virginia-woolf-i-el-grup-de-bloomsbury-de-marta-pessarrodona/
LOCATION:Llibreria 3i4
CATEGORIES:Literatura
ATTACH;FMTTYPE=image/jpeg:https://octubre.cat/www/wp-content/uploads/2020/07/activitat1876.jpg
END:VEVENT
END:VCALENDAR