BEGIN:VCALENDAR
VERSION:2.0
PRODID:-//Octubre Centre de Cultura Contemporània - ECPv5.1.6//NONSGML v1.0//EN
CALSCALE:GREGORIAN
METHOD:PUBLISH
X-WR-CALNAME:Octubre Centre de Cultura Contemporània
X-ORIGINAL-URL:https://octubre.cat
X-WR-CALDESC:Events for Octubre Centre de Cultura Contemporània
BEGIN:VTIMEZONE
TZID:Europe/Andorra
BEGIN:DAYLIGHT
TZOFFSETFROM:+0100
TZOFFSETTO:+0200
TZNAME:CEST
DTSTART:20160327T010000
END:DAYLIGHT
BEGIN:STANDARD
TZOFFSETFROM:+0200
TZOFFSETTO:+0100
TZNAME:CET
DTSTART:20161030T010000
END:STANDARD
END:VTIMEZONE
BEGIN:VEVENT
DTSTART;TZID=Europe/Andorra:20160929T190000
DTEND;TZID=Europe/Andorra:20160929T190000
DTSTAMP:20260421T184404
CREATED:20200729T172019Z
LAST-MODIFIED:20200729T185557Z
UID:10774-1475175600-1475175600@octubre.cat
SUMMARY:Presentació del llibre 'Viatjar descansa'\, de Carles Mulet
DESCRIPTION:Dijous 29 de setembre a les 19.00h.\, amb l’autor i Ivan Brull.  \n  \n  \n\n Premi Senyoriu d’Ausiàs March 2015 (Edicions 3i4)  La presentació anirà a càrrec d’Ivan Brull  Carles Mulet Grimalt (Gata\, la Marina Alta\, 1953) és un escriptor amb una llarga experiència tant en narrativa com en poesia. Cal destacar els llibres de narracions Els mons d’Aixa (premi “Vila d’Ondara”\, 1980)\, Amarg com el sèver (València\,“Vila d’Alaquàs”\, 1982) i Cossos i mossos (premi 25 d’Abril” de Benissa\, 1997). En poesia cal ressenyar la carpeta Crestalls de desig (París-Gata\, 1986)\,  Quadern de sal (La Pobla Llarga\, 2011) i aquest Viatjar descansa (Premi “Senyoriu d’Ausias March” de Beniarjó\, 2015).  Ha conreat també la traducció\, la investigació i la divulgació en els àmbits educatius i literaris.
URL:https://octubre.cat/activitat/presentacio-del-llibre-viatjar-descansa-de-carles-mulet/
LOCATION:Llibreria 3i4
CATEGORIES:Literatura
ATTACH;FMTTYPE=image/jpeg:https://octubre.cat/www/wp-content/uploads/2020/07/activitat2640.jpg
END:VEVENT
END:VCALENDAR