BEGIN:VCALENDAR
VERSION:2.0
PRODID:-//Octubre Centre de Cultura Contemporània - ECPv5.1.6//NONSGML v1.0//EN
CALSCALE:GREGORIAN
METHOD:PUBLISH
X-WR-CALNAME:Octubre Centre de Cultura Contemporània
X-ORIGINAL-URL:https://octubre.cat
X-WR-CALDESC:Events for Octubre Centre de Cultura Contemporània
BEGIN:VTIMEZONE
TZID:Europe/Andorra
BEGIN:DAYLIGHT
TZOFFSETFROM:+0100
TZOFFSETTO:+0200
TZNAME:CEST
DTSTART:20200329T010000
END:DAYLIGHT
BEGIN:STANDARD
TZOFFSETFROM:+0200
TZOFFSETTO:+0100
TZNAME:CET
DTSTART:20201025T010000
END:STANDARD
END:VTIMEZONE
BEGIN:VEVENT
DTSTART;TZID=Europe/Andorra:20201006T190000
DTEND;TZID=Europe/Andorra:20201006T190000
DTSTAMP:20260421T151838
CREATED:20200919T195414Z
LAST-MODIFIED:20200919T195414Z
UID:15120-1602010800-1602010800@octubre.cat
SUMMARY:Presentació del llibre Veus\, d'Imma López Pavia
DESCRIPTION:Amb l’autora acompanyada per Ricard Huerta. \nVeus és un poemari dividit en dues parts principals: «Veus d’aigua» i «Veus de fum»\, així com un apartat breu anomenat «Trilogia del matrimoni». La primera part\, la més extensa\, presenta un ventall de veus de dones: pintores\, escriptores\, fotògrafes\, artistes que després d’haver estat oblidades\, recloses a les seues cambres interiors surten a la llum. Representen l’alteritat\, són les veus de les altres Veus fluïdes\, líquides com l’aigua\, fràgils i poderoses. A la segona part\, les veus de fum són les dels camps de concentració que han estat transformades en pura matèria volàtil\, i que ara romanen en els objectes dels museus de l’horror. \n(Bromera)
URL:https://octubre.cat/activitat/presentacio-del-llibre-veus-dimma-lopez-pavia/
LOCATION:Llibreria Fan Set
CATEGORIES:Literatura
ATTACH;FMTTYPE=image/jpeg:https://octubre.cat/www/wp-content/uploads/2020/09/pavia.jpg
END:VEVENT
END:VCALENDAR