BEGIN:VCALENDAR
VERSION:2.0
PRODID:-//Octubre Centre de Cultura Contemporània - ECPv5.1.6//NONSGML v1.0//EN
CALSCALE:GREGORIAN
METHOD:PUBLISH
X-WR-CALNAME:Octubre Centre de Cultura Contemporània
X-ORIGINAL-URL:https://octubre.cat
X-WR-CALDESC:Events for Octubre Centre de Cultura Contemporània
BEGIN:VTIMEZONE
TZID:Europe/Andorra
BEGIN:DAYLIGHT
TZOFFSETFROM:+0100
TZOFFSETTO:+0200
TZNAME:CEST
DTSTART:20180325T010000
END:DAYLIGHT
BEGIN:STANDARD
TZOFFSETFROM:+0200
TZOFFSETTO:+0100
TZNAME:CET
DTSTART:20181028T010000
END:STANDARD
END:VTIMEZONE
BEGIN:VEVENT
DTSTART;TZID=Europe/Andorra:20180306T190000
DTEND;TZID=Europe/Andorra:20180306T190000
DTSTAMP:20260421T132554
CREATED:20200729T190319Z
LAST-MODIFIED:20200729T190319Z
UID:13347-1520362800-1520362800@octubre.cat
SUMMARY:Presentació del llibre 'Vestals de Roma'\, d’Encarna Sant-Celoni
DESCRIPTION:Dimarts 6 de març a les 19.00h\, a la llibreria Fan Set\, amb l’autora acompanyada per Isabel Robles.  \n  \n  \n\n Amb l’autora acompanyada per Isabel Robles.  Som a l’any 94\, el 847 de la fundació de Roma\, al davant mateix de la porta que tanca l’hort d’una gran vil·la rústica del sud-est de la Hispània Citerior. Tot és a punt perquè Eumàquia Fúlvia Crocina es pose en camí cap al nord. Al llarg de la novel·la\, una xiqueta esdevindrà matrona…\, un gladiador vascó triomfarà a l’arena…\, una gata vetlarà una tomba…\, una vestal serà l’esca del pecat… Ombres i llums entortolligades en escenografies amarades de voluptuositat que menen la protagonista de Vestals de Roma al desafiament d’haver d’enfrontar-se amb qui era i qui és. De Diànium a Tàrraco\, passant per Saetabis\, Valèntia\, Sagúntum i Dertosa\, acompanyarem Eumàquia en un sensual viatge en què consuetud i rebel·lia conflueixen i es bescanvien; un viatge en què passat i present són sacsejats contínuament per la memòria\, l’única veritable proxeneta dels records.  (Pagès editors)
URL:https://octubre.cat/activitat/presentacio-del-llibre-vestals-de-roma-dencarna-sant-celoni/
LOCATION:Llibreria Fan Set
CATEGORIES:Literatura
ATTACH;FMTTYPE=image/jpeg:https://octubre.cat/www/wp-content/uploads/2020/07/activitat2987.jpg
END:VEVENT
END:VCALENDAR