BEGIN:VCALENDAR
VERSION:2.0
PRODID:-//Octubre Centre de Cultura Contemporània - ECPv5.1.6//NONSGML v1.0//EN
CALSCALE:GREGORIAN
METHOD:PUBLISH
X-WR-CALNAME:Octubre Centre de Cultura Contemporània
X-ORIGINAL-URL:https://octubre.cat
X-WR-CALDESC:Events for Octubre Centre de Cultura Contemporània
BEGIN:VTIMEZONE
TZID:Europe/Andorra
BEGIN:DAYLIGHT
TZOFFSETFROM:+0100
TZOFFSETTO:+0200
TZNAME:CEST
DTSTART:20090329T010000
END:DAYLIGHT
BEGIN:STANDARD
TZOFFSETFROM:+0200
TZOFFSETTO:+0100
TZNAME:CET
DTSTART:20091025T010000
END:STANDARD
END:VTIMEZONE
BEGIN:VEVENT
DTSTART;TZID=Europe/Andorra:20090513T200000
DTEND;TZID=Europe/Andorra:20090513T200000
DTSTAMP:20260422T115714
CREATED:20200729T182408Z
LAST-MODIFIED:20200729T182408Z
UID:12804-1242244800-1242244800@octubre.cat
SUMMARY:Presentació del llibre 'Ves a saber on és el cel'
DESCRIPTION:Dimecres 13 de maig\, a les 20.00h: Presentació de “Ves a saber on és el cel”\, de Blanca Busquets (Ed. Rosa dels Vents).   \n  \n  \n\nPresentació del nou llibre de Blanca Busquets\, Vés a saber on és el cel (Rosa dels vents\, versió catalana / Plaza & Janés\, versió castellana). L’autora estarà acompanyada per Ignasi Muñoz\, corresponsal de Catalunya Ràdio a València.  Ves a saber on és el cel “He fet un crit quan l’he vist: el mort no era el mort” Així comença la novel·la. Equivocar-se de mort en un tanatori pot ser només un incident sense conseqüències\, o pot ser\, com a Vés a saber on és el cel\, un error que ens canviarà la vida. Tots tenim un passat\, fins i tot el presentador del programa de ràdio més escoltat del país. Però per culpa d’aquesta terrible equivocació\, en Sergi\, fins avui estrella mediàtica\, es veurà perseguit per aquest passat que\, ara que ho té tot\, pot deixar-lo sense res\, començant pel prestigi i acabant per la feina. I és que no se sap mai qui o què hi ha darrere d’aquella veu que sentim totes les tardes…  Blanca Busquets i Oliu (Barcelona\, 1961) és escriptora i periodista. La lletra escrita ha marcat la seva vida. Als dotze anys va escriure el seu primer conte i\, des d’aleshores es va convertir en l’eix central de la seva vida. Ha publicat Presó de Neu (Proa\, 2003)\, El Jersei (Rosa dels Vents\, 2006) —que està en procés de ser traduïda i publicada a Rússia (Ed. Inostranka) i a Itàlia (Ed. Sonzogno)— Tren a Puigcerdà (Rosa dels Vents\, 2007) i Vés a saber on és el cel que\, per primera vegada\, es publica simultàniament en català i castellà el març del 2009. Com a periodista treballa des del 1986 a les emissores de Catalunya Ràdio. També ha treballat de redactora a Televisió de Catalunya durant set anys.
URL:https://octubre.cat/activitat/presentacio-del-llibre-ves-a-saber-on-es-el-cel/
LOCATION:No definit
CATEGORIES:Literatura
ATTACH;FMTTYPE=image/jpeg:https://octubre.cat/www/wp-content/uploads/2020/07/activitat831.jpg
END:VEVENT
END:VCALENDAR