BEGIN:VCALENDAR
VERSION:2.0
PRODID:-//Octubre Centre de Cultura Contemporània - ECPv5.1.6//NONSGML v1.0//EN
CALSCALE:GREGORIAN
METHOD:PUBLISH
X-WR-CALNAME:Octubre Centre de Cultura Contemporània
X-ORIGINAL-URL:https://octubre.cat
X-WR-CALDESC:Events for Octubre Centre de Cultura Contemporània
BEGIN:VTIMEZONE
TZID:Europe/Andorra
BEGIN:DAYLIGHT
TZOFFSETFROM:+0100
TZOFFSETTO:+0200
TZNAME:CEST
DTSTART:20180325T010000
END:DAYLIGHT
BEGIN:STANDARD
TZOFFSETFROM:+0200
TZOFFSETTO:+0100
TZNAME:CET
DTSTART:20181028T010000
END:STANDARD
END:VTIMEZONE
BEGIN:VEVENT
DTSTART;TZID=Europe/Andorra:20180202T190000
DTEND;TZID=Europe/Andorra:20180202T190000
DTSTAMP:20260422T024150
CREATED:20200729T190245Z
LAST-MODIFIED:20200729T190245Z
UID:13312-1517598000-1517598000@octubre.cat
SUMMARY:Presentació del llibre 'Versos e vents'\, de Miguel Hernández
DESCRIPTION:Divendres 2 de febrer a les 19.00h. Amb José López Camarillas (traductor) i Toni de Los Chicos del Maíz.  \n  \n  \n\n Primera antologia en valencià. Pròleg d’Alberto Garzón.  La presentació anirà a càrrec de José A. López Camarillas (traductor) i Toni de Los Chicos del Maíz.  Des de Llibres de l’Encobert han volgut afegir-se als actes de celebració de l’any Miguel Hernández amb aquesta primera traducció al valencià de l’obra del poeta oriolà. Una traducció i adaptació a la mètrica i ritme de la nostra llengua amb una clara finalitat: normalitzar i revalorar els trets diferencials de les diverses comarques valencianes com a part del mateix poble.  (Llibres de l’Encobert)
URL:https://octubre.cat/activitat/presentacio-del-llibre-versos-e-vents-de-miguel-hernandez/
LOCATION:Llibreria Fan Set
CATEGORIES:Literatura
ATTACH;FMTTYPE=image/jpeg:https://octubre.cat/www/wp-content/uploads/2020/07/activitat2951.jpg
END:VEVENT
END:VCALENDAR