BEGIN:VCALENDAR
VERSION:2.0
PRODID:-//Octubre Centre de Cultura Contemporània - ECPv5.1.6//NONSGML v1.0//EN
CALSCALE:GREGORIAN
METHOD:PUBLISH
X-WR-CALNAME:Octubre Centre de Cultura Contemporània
X-ORIGINAL-URL:https://octubre.cat
X-WR-CALDESC:Events for Octubre Centre de Cultura Contemporània
BEGIN:VTIMEZONE
TZID:Europe/Andorra
BEGIN:DAYLIGHT
TZOFFSETFROM:+0100
TZOFFSETTO:+0200
TZNAME:CEST
DTSTART:20120325T010000
END:DAYLIGHT
BEGIN:STANDARD
TZOFFSETFROM:+0200
TZOFFSETTO:+0100
TZNAME:CET
DTSTART:20121028T010000
END:STANDARD
END:VTIMEZONE
BEGIN:VEVENT
DTSTART;TZID=Europe/Andorra:20120608T193000
DTEND;TZID=Europe/Andorra:20120608T193000
DTSTAMP:20260422T140059
CREATED:20200729T165755Z
LAST-MODIFIED:20200729T183854Z
UID:9379-1339183800-1339183800@octubre.cat
SUMMARY:Presentació del llibre 'Valencianisme\, l'aportació positiva'\, de Francesc Viadel
DESCRIPTION:Divendres 8 de juny a les 19.30h: presentació del llibre “Valencianisme\, l’aportació positiva”\, de Francesc Viadel\, i taula rodona amb l’autor\, Gustau Muñoz\, Rafa Xambó i Adolf Beltran.  \n  \n  \n\nValencianisme\, l’aportació positiva. Cultura i política al País Valencià (1962-2012)\, de Francesc Viadel (PUV)  Amb la participació de Gustau Muñoz (Publicacions de la Universitat de València)\, Rafa Xambó (professor de sociologia de la UV)\, Adolf Beltran (El País) i Francesc Viadel (autor).  El llibre El valencianisme ha mantingut al llarg del temps una producció cultural digníssima alhora que algunes idees centrals del seu discurs han impregnat nombrosos àmbits de la societat. Malgrat la pressió ambiental contrària\, les traves i la persecució des del poder l’aportació cultural i cívica ha estat impressionant. El valencianisme ha estat decisiu com a moviment social i com a ferment polític. La irradiació de l’escola valenciana\, l’extensa nòmina d’escriptors o músics\, la gran xarxa cívica compromesa amb la defensa del patrimoni cultural i natural\, la inspiració dels artistes\, l’acció cultural de base\, la pugna per uns mitjans de comunicació propis\, les editorials i les revistes\, l’aportació de les Universitats\, tot plegat ha impregnat una part substancial de la societat i ha donat consistència a un poble en procés de despersonalització. El valencianisme ha nodrit la consciència d’unes quantes generacions i ha fet una tasca cultural molt més important del que sovint es diu i es pensa. Vet ací la seua aportació positiva. En aquest llibre es ressegueix la trajectòria del valencianisme cultural i polític al llarg de mig segle (a partir de Nosaltres\, els valencians\, de Joan Fuster i fins avui mateix). Una història intensa i plena de descobertes que constitueix una lectura apassionant.  L’autor Francesc Viadel (Algemesí\, 1968) és periodista i escriptor. Durant uns anys fou cap de redacció a València del setmanari El Temps. És autor\, entre altres\, del recull de poemes Èxode salnitrós (1988) i de les novel·les Terra (2001) i L’advocat del diable (2003). Col·labora regularment en mitjans com el Quadern d’El País\, edició valenciana\, El Triangle\, Caràcters\, L’Espill o Saó. En aquesta mateixa col·lecció es va publicar el seu llibre «No mos fareu catalans». Història inacabada del blaverisme (2009). A hores ara és professor de periodisme a la Facultat de Comunicació Blanquerna (Universitat Ramon Llull).
URL:https://octubre.cat/activitat/presentacio-del-llibre-valencianisme-laportacio-positiva-de-francesc-viadel/
LOCATION:No definit
CATEGORIES:Literatura
ATTACH;FMTTYPE=image/jpeg:https://octubre.cat/www/wp-content/uploads/2020/07/activitat1622.jpg
END:VEVENT
END:VCALENDAR