BEGIN:VCALENDAR
VERSION:2.0
PRODID:-//Octubre Centre de Cultura Contemporània - ECPv5.1.6//NONSGML v1.0//EN
CALSCALE:GREGORIAN
METHOD:PUBLISH
X-WR-CALNAME:Octubre Centre de Cultura Contemporània
X-ORIGINAL-URL:https://octubre.cat
X-WR-CALDESC:Events for Octubre Centre de Cultura Contemporània
BEGIN:VTIMEZONE
TZID:Europe/Andorra
BEGIN:DAYLIGHT
TZOFFSETFROM:+0100
TZOFFSETTO:+0200
TZNAME:CEST
DTSTART:20130331T010000
END:DAYLIGHT
BEGIN:STANDARD
TZOFFSETFROM:+0200
TZOFFSETTO:+0100
TZNAME:CET
DTSTART:20131027T010000
END:STANDARD
END:VTIMEZONE
BEGIN:VEVENT
DTSTART;TZID=Europe/Andorra:20130502T190000
DTEND;TZID=Europe/Andorra:20130502T190000
DTSTAMP:20260424T020130
CREATED:20200729T170027Z
LAST-MODIFIED:20200729T184110Z
UID:9527-1367521200-1367521200@octubre.cat
SUMMARY:Presentació del llibre ‘València – Barcelona 1936’
DESCRIPTION:Dijous 2 de maig a les 19.00h: presentació del llibre ‘València – Barcelona 1936. Josep Rodríguez Tortajada\, regidor i president del València CF’\, de Vicent Sampedro i Ricard Camil Torres (Edicions 3i4 / Fundació Josep Irla)  \n  \n  \n\n Josep Rodríguez Tortajada\, regidor i president del València CF  per Vicent Sampedro i Ricard Camil Torres (Edicions 3i4 / Fundació Josep Irla)  La presentació anirà a càrrec de Joan Tardà (ERC)\, Agustí Cerdà (ERPV) i els autors  Sinopsi Durant els primers mesos de la guerra civil espanyola s’establí una relació de fraternitat entre l’Ajuntament de València\, en representació del poble valencià\, i la Generalitat de Catalunya\, dirigida per ERC. Ambdues institucions anaven juntes en la lluita comuna contra l’aixecament militar feixista\, amb els evidents llaços comuns de la llengua i la cultura. El futbol fou l’eix vertebrador dels homenatges que es feren a Barcelona i València en octubre i novembre de 1936\, i l’artífex d’aquests actes fou Josep Rodríguez Tortajada\, regidor valencià en representació del Partit Valencianista d’Esquerra i president de la gestora del València FC durant tota la guerra. Futbol i política serviren perquè en aquest període arribàs al zenit la unió entre valencians i catalans per l’ideal comú. Malauradament\, aquest ideal fou esclafat per la derrota en 1939\, i Rodríguez Tortajada va ser víctima de la repressió franquista\, condemnat a mort\, empresonat durant molts anys i oblidat per tothom.  Els autors  Ricard Camil Torres Fabra Doctor en geografia i història i professor associat del Departament d’Història Contemporània de la UV\, ha publicat nombrosos articles sobre la guerra civil\, la postguerra i la repressió franquista en El Contemporani\, Afers\, Ebre38\, Quaderns de Sueca o Millars\, i monografies com ara Valencians sota el franquisme (2002)\, Autarquia i estraperlo. L’economia en un espai rural del País Valencià durant el franquisme (2005)\, Camp i política. La Falange en una comunitat rural valenciana (2005) i La repressió franquista al País Valencià. Recull bibliogràfic (2008). També ha estat editor d’obres col·lectives\, com Temps de por al País Valencià (2012).    Vicent Sampedro Ramo Llicenciat en geografia i historia per la Universitat de València\, actualment acaba la tesi doctoral sobre la repressió franquista de la maçoneria al País Valencià. Especialista en la història de la maçoneria valenciana\, ha publicat nombrosos articles en Papers de la Costera\, Canelobre\, Saó\, Millars… i diverses obres col·lectives\, a més de les  monografies La maçoneria valenciana i les lògies accidentals durant la guerra civil (1997\, 2a edició 2006) i Los masones de Sant Vicent del Raspeig en el contexto de la masonería alicantina de los siglos XIX y XX (2008).
URL:https://octubre.cat/activitat/presentacio-del-llibre-valencia-barcelona-1936/
LOCATION:Sala d’actes
CATEGORIES:Literatura
ATTACH;FMTTYPE=image/jpeg:https://octubre.cat/www/wp-content/uploads/2020/07/activitat1783.jpg
END:VEVENT
END:VCALENDAR