BEGIN:VCALENDAR
VERSION:2.0
PRODID:-//Octubre Centre de Cultura Contemporània - ECPv5.1.6//NONSGML v1.0//EN
CALSCALE:GREGORIAN
METHOD:PUBLISH
X-WR-CALNAME:Octubre Centre de Cultura Contemporània
X-ORIGINAL-URL:https://octubre.cat
X-WR-CALDESC:Events for Octubre Centre de Cultura Contemporània
BEGIN:VTIMEZONE
TZID:Europe/Andorra
BEGIN:DAYLIGHT
TZOFFSETFROM:+0100
TZOFFSETTO:+0200
TZNAME:CEST
DTSTART:20140330T010000
END:DAYLIGHT
BEGIN:STANDARD
TZOFFSETFROM:+0200
TZOFFSETTO:+0100
TZNAME:CET
DTSTART:20141026T010000
END:STANDARD
END:VTIMEZONE
BEGIN:VEVENT
DTSTART;TZID=Europe/Andorra:20140130T190000
DTEND;TZID=Europe/Andorra:20140130T190000
DTSTAMP:20260422T073938
CREATED:20200729T170259Z
LAST-MODIFIED:20200729T184315Z
UID:9669-1391108400-1391108400@octubre.cat
SUMMARY:Presentació del llibre 'Un son profund'\, d'Enric Iborra
DESCRIPTION:Dijous 30 de gener a les 19.00h. A càrrec de Jaume Pérez Montaner i Carlota Garrido  \n  \n  \n\n  Un son profund. Dietari d’un curs de literatura universal (Viena Edicions)  A càrrec de Jaume Pérez Montaner i de Carlota Garrido  Aquest volum ofereix al lector un itinerari revelador a través d’alguns dels temes i de les obres fonamentals de la literatura universal\, pensant especialment a copsar l’interès d’un grup d’adolescents que tot just comencen a iniciar-se en el plaer de la lectura.  Enric Iborra és professor de llengua i literatura catalanes a l’IES Lluís Vives de València. Ha publicat alguns llibres que\, en part\, són resultat de les seves classes de literatura. El setembre de 2010 va obrir el bloc de literatura La serp blanca i un any més tard va inaugurar el web de literatura universal amb el mateix títol\, amb què sistematitzava els materials publicats al bloc.
URL:https://octubre.cat/activitat/presentacio-del-llibre-un-son-profund-denric-iborra/
CATEGORIES:Literatura
ATTACH;FMTTYPE=image/jpeg:https://octubre.cat/www/wp-content/uploads/2020/07/activitat1960.jpg
END:VEVENT
END:VCALENDAR