BEGIN:VCALENDAR
VERSION:2.0
PRODID:-//Octubre Centre de Cultura Contemporània - ECPv5.1.6//NONSGML v1.0//EN
CALSCALE:GREGORIAN
METHOD:PUBLISH
X-WR-CALNAME:Octubre Centre de Cultura Contemporània
X-ORIGINAL-URL:https://octubre.cat
X-WR-CALDESC:Events for Octubre Centre de Cultura Contemporània
BEGIN:VTIMEZONE
TZID:Europe/Andorra
BEGIN:DAYLIGHT
TZOFFSETFROM:+0100
TZOFFSETTO:+0200
TZNAME:CEST
DTSTART:20150329T010000
END:DAYLIGHT
BEGIN:STANDARD
TZOFFSETFROM:+0200
TZOFFSETTO:+0100
TZNAME:CET
DTSTART:20151025T010000
END:STANDARD
END:VTIMEZONE
BEGIN:VEVENT
DTSTART;TZID=Europe/Andorra:20150624T190000
DTEND;TZID=Europe/Andorra:20150624T190000
DTSTAMP:20260421T182544
CREATED:20200729T171201Z
LAST-MODIFIED:20200730T041505Z
UID:10244-1435172400-1435172400@octubre.cat
SUMMARY:Presentació del llibre 'Un país nou. Valencianisme\, prosperitat i democràcia'
DESCRIPTION:Dimecres 24 de juny a les 19.00h. Nou llibre editat per la Fundació Nexe.  \n  \n  \n\n El número 7 de la col·lecció Demos és una selecció d’articles publicats a la web de la Fundació Nexe\, que ara recuperem en format de llibre per a celebrar el nostre cinqué aniversari. En l’acte de presentació tindrem l’oportunitat de sentir diversos autors de la Fundació en diferents microtaules redones tractant els principals temes del llibre.
URL:https://octubre.cat/activitat/presentacio-del-llibre-un-pais-nou-valencianisme-prosperitat-i-democracia/
LOCATION:Sala d’actes
CATEGORIES:Literatura
ATTACH;FMTTYPE=image/png:https://octubre.cat/www/wp-content/uploads/2020/07/activitat2360.png
END:VEVENT
END:VCALENDAR