BEGIN:VCALENDAR
VERSION:2.0
PRODID:-//Octubre Centre de Cultura Contemporània - ECPv5.1.6//NONSGML v1.0//EN
CALSCALE:GREGORIAN
METHOD:PUBLISH
X-WR-CALNAME:Octubre Centre de Cultura Contemporània
X-ORIGINAL-URL:https://octubre.cat
X-WR-CALDESC:Events for Octubre Centre de Cultura Contemporània
BEGIN:VTIMEZONE
TZID:Europe/Andorra
BEGIN:DAYLIGHT
TZOFFSETFROM:+0100
TZOFFSETTO:+0200
TZNAME:CEST
DTSTART:20250330T010000
END:DAYLIGHT
BEGIN:STANDARD
TZOFFSETFROM:+0200
TZOFFSETTO:+0100
TZNAME:CET
DTSTART:20251026T010000
END:STANDARD
END:VTIMEZONE
BEGIN:VEVENT
DTSTART;TZID=Europe/Andorra:20251201T190000
DTEND;TZID=Europe/Andorra:20251201T190000
DTSTAMP:20260420T164350
CREATED:20251124T120131Z
LAST-MODIFIED:20251124T173721Z
UID:24058-1764615600-1764615600@octubre.cat
SUMMARY:Presentació del llibre Un país de llengua. Històries de la dignificació del valencià de Josep Daniel Climent
DESCRIPTION:Amb l’autor acompanyat per Vicent Baydal\, editor\, Rosanna Martínez\, presidenta d’Escola Valenciana i Antoni Ferrando\, catedràtic de la Universitat de València. \nJosep Daniel Climent Martínez (La Granja de la Costera\, 1959) és llicenciat en Història i doctor en Filologia per la Universitat de València. És autor de llibres com L’interés per la llengua dels valencians (segles XV-XIX) (Generalitat Valenciana\, 2003)\, L’obra lingüística de Lluís Fullana i Mira (Denes\, 2004)\, Les Normes de Castelló (Acadèmia Valenciana de la Llengua\, 2007)\, Enric Valor. Estudi i compromís per la llengua (Acadèmia Valenciana de la Llengua\, 2011) o Epistolari (1925-1968). Nicolau Primitiu Gómez Serrano – Emili Gómez Nadal (Generalitat Valenciana\, 2014). \n  \n \n(Drassana)
URL:https://octubre.cat/activitat/presentacio-del-llibre-un-pais-de-llengua-histories-de-la-dignificacio-del-valencia-de-josep-daniel-climent/
LOCATION:Llibreria Fan Set
CATEGORIES:Literatura
ATTACH;FMTTYPE=image/jpeg:https://octubre.cat/www/wp-content/uploads/2025/11/josepd_climent_ok.jpg
END:VEVENT
END:VCALENDAR