BEGIN:VCALENDAR
VERSION:2.0
PRODID:-//Octubre Centre de Cultura Contemporània - ECPv5.1.6//NONSGML v1.0//EN
CALSCALE:GREGORIAN
METHOD:PUBLISH
X-WR-CALNAME:Octubre Centre de Cultura Contemporània
X-ORIGINAL-URL:https://octubre.cat
X-WR-CALDESC:Events for Octubre Centre de Cultura Contemporània
BEGIN:VTIMEZONE
TZID:Europe/Andorra
BEGIN:DAYLIGHT
TZOFFSETFROM:+0100
TZOFFSETTO:+0200
TZNAME:CEST
DTSTART:20170326T010000
END:DAYLIGHT
BEGIN:STANDARD
TZOFFSETFROM:+0200
TZOFFSETTO:+0100
TZNAME:CET
DTSTART:20171029T010000
END:STANDARD
END:VTIMEZONE
BEGIN:VEVENT
DTSTART;TZID=Europe/Andorra:20170116T190000
DTEND;TZID=Europe/Andorra:20170116T190000
DTSTAMP:20260420T194319
CREATED:20200729T172307Z
LAST-MODIFIED:20200729T185711Z
UID:10949-1484593200-1484593200@octubre.cat
SUMMARY:Presentació del llibre 'Un oceà de memòria'\, de Sebastià Bennasar
DESCRIPTION:Dilluns 16 de gener a les 19.00h i a la llibreria Fan Set. Es presentarà també la darrera novetat del mateix autor\, L’imperi dels lleons.  \n  \n  \n\n (El Gall Editor)  Negra nit. Lisboa. Un professor expulsat de la Universitat rep una trucada. Una oferta laboral. Si l’accepta haurà de tornar a casa seva\, a les Açores\, d’on va marxar al final de la dictadura portuguesa i on mai no ha tornat. Si la refusa l’espera la ruïna econòmica. Té una nit per pensar-ho i potser l’única dona que ha estimat en la vida a l’altre costat del fil telefònic.  En aquesta intensa novel·la breu\, Sebastià Bennasar ens endinsa en els misteris de les decisions extremes. Ambientada entre Lisboa i les Açores\, aquesta obra és universal perquè expressa la dicotomia entre illes i continents\, entre comportaments insulars i peninsulars i indaga en la memòria contemporània dels traumes europeus emprant\, per a fer-ho\, l’alta literatura.  NOTA: Aprofitarem l’ocasió per presentar també  la novíssima L’imperi dels lleons (Crims.cat)\, del mateix autor\, que s’aboca a les trames mafioses que operen a la Costa Brava.
URL:https://octubre.cat/activitat/presentacio-del-llibre-un-ocea-de-memoria-de-sebastia-bennasar/
LOCATION:Llibreria Fan Set
CATEGORIES:Literatura
ATTACH;FMTTYPE=image/jpeg:https://octubre.cat/www/wp-content/uploads/2020/07/activitat2735.jpg
END:VEVENT
END:VCALENDAR