BEGIN:VCALENDAR
VERSION:2.0
PRODID:-//Octubre Centre de Cultura Contemporània - ECPv5.1.6//NONSGML v1.0//EN
CALSCALE:GREGORIAN
METHOD:PUBLISH
X-WR-CALNAME:Octubre Centre de Cultura Contemporània
X-ORIGINAL-URL:https://octubre.cat
X-WR-CALDESC:Events for Octubre Centre de Cultura Contemporània
BEGIN:VTIMEZONE
TZID:Europe/Andorra
BEGIN:DAYLIGHT
TZOFFSETFROM:+0100
TZOFFSETTO:+0200
TZNAME:CEST
DTSTART:20180325T010000
END:DAYLIGHT
BEGIN:STANDARD
TZOFFSETFROM:+0200
TZOFFSETTO:+0100
TZNAME:CET
DTSTART:20181028T010000
END:STANDARD
END:VTIMEZONE
BEGIN:VEVENT
DTSTART;TZID=Europe/Andorra:20181227T190000
DTEND;TZID=Europe/Andorra:20181227T190000
DTSTAMP:20260421T072658
CREATED:20200729T173236Z
LAST-MODIFIED:20200729T191022Z
UID:11341-1545937200-1545937200@octubre.cat
SUMMARY:Presentació del llibre "Un mestre del valencianisme: Vicent Soler"\, d'Abelard Saragossà
DESCRIPTION:Dijous 27 de desembre a les 19.00h. Amb l’autor i el protagonista\, Vicent Soler.	 \n  \n  \n\n 	 Abelard Saragossà ha fet un buidatge i ha estructurat les idees sobre el valencianisme que té Vicent Soler. Ho presentarà juntament amb el protagonista\, l’actual conseller d’Hisenda i Model Econòmic. Serà un debat sobre el llibre Un mestre del valencianisme: Vicent Soler\, que ha publicat Arbena\, i on es vol demostrar “que l’adhesió a la societat valenciana afavoreix la cohesió social i el benestar de les persones\, al contrari que el provincianisme i el menfotisme”.
URL:https://octubre.cat/activitat/presentacio-del-llibre-un-mestre-del-valencianisme-vicent-soler-dabelard-saragossa/
LOCATION:No definit
CATEGORIES:Literatura
ATTACH;FMTTYPE=image/jpeg:https://octubre.cat/www/wp-content/uploads/2020/07/activitat3185.jpg
END:VEVENT
END:VCALENDAR