BEGIN:VCALENDAR
VERSION:2.0
PRODID:-//Octubre Centre de Cultura Contemporània - ECPv5.1.6//NONSGML v1.0//EN
CALSCALE:GREGORIAN
METHOD:PUBLISH
X-WR-CALNAME:Octubre Centre de Cultura Contemporània
X-ORIGINAL-URL:https://octubre.cat
X-WR-CALDESC:Events for Octubre Centre de Cultura Contemporània
BEGIN:VTIMEZONE
TZID:Europe/Andorra
BEGIN:DAYLIGHT
TZOFFSETFROM:+0100
TZOFFSETTO:+0200
TZNAME:CEST
DTSTART:20180325T010000
END:DAYLIGHT
BEGIN:STANDARD
TZOFFSETFROM:+0200
TZOFFSETTO:+0100
TZNAME:CET
DTSTART:20181028T010000
END:STANDARD
END:VTIMEZONE
BEGIN:VEVENT
DTSTART;TZID=Europe/Andorra:20180531T190000
DTEND;TZID=Europe/Andorra:20180531T190000
DTSTAMP:20260422T012146
CREATED:20200729T190358Z
LAST-MODIFIED:20200729T190358Z
UID:13387-1527793200-1527793200@octubre.cat
SUMMARY:Presentació del llibre 'Un estiu devastador'\, de Guillem Cortès
DESCRIPTION:Dijous 31 de maig a les 19.00h a la llibreria Fan Set.  \n  \n  \n\n Com dins un formiguer inundat per la crescuda brutal del riu\, la gent del poble lluita\, s’ofega\, mossega\, desespera per surar. El cop d’estat feixista obre les aigües el 1936. Mentre la guerra es defineix a les trinxeres\, quin nom té la mort a la rereguarda? L’opressió retuda sobre la misèria esclata. Armes preparades per la defensa encanonen i abaten veïns desarmats. El 1938\, amb la batalla perduda\, els més joves\, la quinta del biberó\, amb 17 anys només\, són mobilitzats. Un d’ells va de dol. Per què? Amb els seus ulls viurem el caos del front\, les arrels del conflicte\, la persecució dels sindicalistes i dels conservadors\, el desgavell de les tensions acumulades\, la singular situació de les dones\, la desfeta\, l’entrada de l’exèrcit al poble\, la devastació criminal del tribunal militar i tots els silencis. Un estiu devastador dona veu a les víctimes i als qui no ho semblen\, que som tots\, amb una equilibrada combinació de passió narrativa i crònica rigorosa\, de personatges vius i arxius esgrogueïts\, i amb una anàlisi equànime però mai neutral sobre el context social i polític del període més negre i callat de la nostra història.  (Afers)
URL:https://octubre.cat/activitat/presentacio-del-llibre-un-estiu-devastador-de-guillem-cortes/
LOCATION:Llibreria Fan Set
CATEGORIES:Literatura
ATTACH;FMTTYPE=image/jpeg:https://octubre.cat/www/wp-content/uploads/2020/07/activitat3029.jpg
END:VEVENT
END:VCALENDAR